BEGIN:VCALENDAR
VERSION:2.0
PRODID:-//Yellow Your Spirit - ECPv6.15.20//NONSGML v1.0//EN
CALSCALE:GREGORIAN
METHOD:PUBLISH
X-ORIGINAL-URL:https://yellowyourspirit.com
X-WR-CALDESC:Events for Yellow Your Spirit
REFRESH-INTERVAL;VALUE=DURATION:PT1H
X-Robots-Tag:noindex
X-PUBLISHED-TTL:PT1H
BEGIN:VTIMEZONE
TZID:Europe/Athens
BEGIN:DAYLIGHT
TZOFFSETFROM:+0200
TZOFFSETTO:+0300
TZNAME:EEST
DTSTART:20180325T010000
END:DAYLIGHT
BEGIN:STANDARD
TZOFFSETFROM:+0300
TZOFFSETTO:+0200
TZNAME:EET
DTSTART:20181028T010000
END:STANDARD
BEGIN:DAYLIGHT
TZOFFSETFROM:+0200
TZOFFSETTO:+0300
TZNAME:EEST
DTSTART:20190331T010000
END:DAYLIGHT
BEGIN:STANDARD
TZOFFSETFROM:+0300
TZOFFSETTO:+0200
TZNAME:EET
DTSTART:20191027T010000
END:STANDARD
BEGIN:DAYLIGHT
TZOFFSETFROM:+0200
TZOFFSETTO:+0300
TZNAME:EEST
DTSTART:20200329T010000
END:DAYLIGHT
BEGIN:STANDARD
TZOFFSETFROM:+0300
TZOFFSETTO:+0200
TZNAME:EET
DTSTART:20201025T010000
END:STANDARD
END:VTIMEZONE
BEGIN:VEVENT
DTSTART;TZID=Europe/Athens:20190520T190000
DTEND;TZID=Europe/Athens:20190520T200000
DTSTAMP:20260424T183334
CREATED:20190517T074540Z
LAST-MODIFIED:20190517T074631Z
UID:3394-1558378800-1558382400@yellowyourspirit.com
SUMMARY:Sunset Vinyasa Yoga on Acropolis Roofdeck
DESCRIPTION:A gentle\, all-levels Vinyasa Yoga practice with a beautiful view of the Parthenon. 🙂 \n19:00-20:00 in Koukaki\, Athens
URL:https://yellowyourspirit.com/event/sunset-vinyasa-yoga-on-acropolis-roofdeck/
END:VEVENT
END:VCALENDAR