BEGIN:VCALENDAR
VERSION:2.0
PRODID:-//Yellow Your Spirit - ECPv6.15.20//NONSGML v1.0//EN
CALSCALE:GREGORIAN
METHOD:PUBLISH
X-ORIGINAL-URL:https://yellowyourspirit.com
X-WR-CALDESC:Events for Yellow Your Spirit
REFRESH-INTERVAL;VALUE=DURATION:PT1H
X-Robots-Tag:noindex
X-PUBLISHED-TTL:PT1H
BEGIN:VTIMEZONE
TZID:Europe/Athens
BEGIN:DAYLIGHT
TZOFFSETFROM:+0200
TZOFFSETTO:+0300
TZNAME:EEST
DTSTART:20190331T010000
END:DAYLIGHT
BEGIN:STANDARD
TZOFFSETFROM:+0300
TZOFFSETTO:+0200
TZNAME:EET
DTSTART:20191027T010000
END:STANDARD
BEGIN:DAYLIGHT
TZOFFSETFROM:+0200
TZOFFSETTO:+0300
TZNAME:EEST
DTSTART:20200329T010000
END:DAYLIGHT
BEGIN:STANDARD
TZOFFSETFROM:+0300
TZOFFSETTO:+0200
TZNAME:EET
DTSTART:20201025T010000
END:STANDARD
BEGIN:DAYLIGHT
TZOFFSETFROM:+0200
TZOFFSETTO:+0300
TZNAME:EEST
DTSTART:20210328T010000
END:DAYLIGHT
BEGIN:STANDARD
TZOFFSETFROM:+0300
TZOFFSETTO:+0200
TZNAME:EET
DTSTART:20211031T010000
END:STANDARD
END:VTIMEZONE
BEGIN:VEVENT
DTSTART;TZID=Europe/Athens:20200520T113000
DTEND;TZID=Europe/Athens:20200520T123000
DTSTAMP:20260425T134510
CREATED:20200509T071023Z
LAST-MODIFIED:20200509T071023Z
UID:3831-1589974200-1589977800@yellowyourspirit.com
SUMMARY:Private Embassy Class
DESCRIPTION:American Embassy Ladies! \nVinyasa Time is 11:30 \nInvite anyone you wish  \nClasses are donation based. Give what you can  \npaypal.me/yellowyourspirit \nZoom link below… \npassword: lemonade
URL:https://yellowyourspirit.com/event/private-embassy-class-4/
LOCATION:Zoom\, The Internet
ORGANIZER;CN="Elli":MAILTO:elli@yellowyourspirit.com
END:VEVENT
BEGIN:VEVENT
DTSTART;TZID=Europe/Athens:20200520T130000
DTEND;TZID=Europe/Athens:20200520T140000
DTSTAMP:20260425T134510
CREATED:20200508T164156Z
LAST-MODIFIED:20200508T164156Z
UID:3811-1589979600-1589983200@yellowyourspirit.com
SUMMARY:Afternoon Vinyasa Flow
DESCRIPTION:Vinyasa Level 1 & 2 on ZOOM! \nIf you have never done yoga before you are welcome to join of course! JUST REMEMBER to practice at YOUR OWN pace. Do what you can\, listen to instruction (because I will always talk it through!)\, and take breaks in child’s pose when your body is asking. OH! and breathe.  \nGET READY TO MOVE\, STRETCH\, AND BREATHE. \nClasses are donation based. Give what you can  \npaypal.me/yellowyourspirit \n  \nZoom link below… \nPassword: lemonade
URL:https://yellowyourspirit.com/event/afternoon-vinyasa-flow-4/
LOCATION:Zoom\, The Internet
ORGANIZER;CN="Elli":MAILTO:elli@yellowyourspirit.com
END:VEVENT
END:VCALENDAR