BEGIN:VCALENDAR
VERSION:2.0
PRODID:-//Yellow Your Spirit - ECPv6.15.20//NONSGML v1.0//EN
CALSCALE:GREGORIAN
METHOD:PUBLISH
X-ORIGINAL-URL:https://yellowyourspirit.com
X-WR-CALDESC:Events for Yellow Your Spirit
REFRESH-INTERVAL;VALUE=DURATION:PT1H
X-Robots-Tag:noindex
X-PUBLISHED-TTL:PT1H
BEGIN:VTIMEZONE
TZID:Europe/Athens
BEGIN:DAYLIGHT
TZOFFSETFROM:+0200
TZOFFSETTO:+0300
TZNAME:EEST
DTSTART:20190331T010000
END:DAYLIGHT
BEGIN:STANDARD
TZOFFSETFROM:+0300
TZOFFSETTO:+0200
TZNAME:EET
DTSTART:20191027T010000
END:STANDARD
BEGIN:DAYLIGHT
TZOFFSETFROM:+0200
TZOFFSETTO:+0300
TZNAME:EEST
DTSTART:20200329T010000
END:DAYLIGHT
BEGIN:STANDARD
TZOFFSETFROM:+0300
TZOFFSETTO:+0200
TZNAME:EET
DTSTART:20201025T010000
END:STANDARD
BEGIN:DAYLIGHT
TZOFFSETFROM:+0200
TZOFFSETTO:+0300
TZNAME:EEST
DTSTART:20210328T010000
END:DAYLIGHT
BEGIN:STANDARD
TZOFFSETFROM:+0300
TZOFFSETTO:+0200
TZNAME:EET
DTSTART:20211031T010000
END:STANDARD
END:VTIMEZONE
BEGIN:VEVENT
DTSTART;TZID=Europe/Athens:20201030T203000
DTEND;TZID=Europe/Athens:20201030T213000
DTSTAMP:20260425T205057
CREATED:20200928T194000Z
LAST-MODIFIED:20200928T200517Z
UID:3915-1604089800-1604093400@yellowyourspirit.com
SUMMARY:20:30 Power Vinyasa at Infinity Fitness
DESCRIPTION:Power Vinyasa Yoga at Infinity Fitness in Neo Psychiko! \nA little faster\, a little sweatier\, but don’t be scared\, it’s still yoga 🙂 \nCome join us downstairs in a beautiful brand new studio. \nYou don’t have to be a member to join 🙂 \n12 euro for a drop-in class and then you can check out the amazing packages!
URL:https://yellowyourspirit.com/event/vinyasa-at-infinity-fitness-9/
END:VEVENT
END:VCALENDAR