BEGIN:VCALENDAR
VERSION:2.0
PRODID:-//Yellow Your Spirit - ECPv6.15.20//NONSGML v1.0//EN
CALSCALE:GREGORIAN
METHOD:PUBLISH
X-WR-CALNAME:Yellow Your Spirit
X-ORIGINAL-URL:https://yellowyourspirit.com
X-WR-CALDESC:Events for Yellow Your Spirit
REFRESH-INTERVAL;VALUE=DURATION:PT1H
X-Robots-Tag:noindex
X-PUBLISHED-TTL:PT1H
BEGIN:VTIMEZONE
TZID:Europe/Athens
BEGIN:DAYLIGHT
TZOFFSETFROM:+0200
TZOFFSETTO:+0300
TZNAME:EEST
DTSTART:20170326T010000
END:DAYLIGHT
BEGIN:STANDARD
TZOFFSETFROM:+0300
TZOFFSETTO:+0200
TZNAME:EET
DTSTART:20171029T010000
END:STANDARD
BEGIN:DAYLIGHT
TZOFFSETFROM:+0200
TZOFFSETTO:+0300
TZNAME:EEST
DTSTART:20180325T010000
END:DAYLIGHT
BEGIN:STANDARD
TZOFFSETFROM:+0300
TZOFFSETTO:+0200
TZNAME:EET
DTSTART:20181028T010000
END:STANDARD
BEGIN:DAYLIGHT
TZOFFSETFROM:+0200
TZOFFSETTO:+0300
TZNAME:EEST
DTSTART:20190331T010000
END:DAYLIGHT
BEGIN:STANDARD
TZOFFSETFROM:+0300
TZOFFSETTO:+0200
TZNAME:EET
DTSTART:20191027T010000
END:STANDARD
BEGIN:DAYLIGHT
TZOFFSETFROM:+0200
TZOFFSETTO:+0300
TZNAME:EEST
DTSTART:20200329T010000
END:DAYLIGHT
BEGIN:STANDARD
TZOFFSETFROM:+0300
TZOFFSETTO:+0200
TZNAME:EET
DTSTART:20201025T010000
END:STANDARD
END:VTIMEZONE
BEGIN:VEVENT
DTSTART;TZID=Europe/Athens:20190214T191500
DTEND;TZID=Europe/Athens:20190214T201500
DTSTAMP:20260425T135439
CREATED:20190201T231558Z
LAST-MODIFIED:20190201T231558Z
UID:3212-1550171700-1550175300@yellowyourspirit.com
SUMMARY:Beginners Hatha/Vinyasa at House Hub
DESCRIPTION:If you have never done yoga before\, or have dabbled in it then this is the class for you! \nIf you HAVE done yoga before\, this still can be the class for you! \nEvery Thursday at House Hub we will practice Hatha yoga with elements of Vinyasa to soothe and stretch the body. Our breath will guide us\, as always\, but we will pay closer attention to it during the practice.
URL:https://yellowyourspirit.com/event/beginners-hatha-vinyasa-at-house-hub-2/
LOCATION:House Hub\, Othonos 93\, kifisia\, Greece
ORGANIZER;CN="Elli":MAILTO:elli@yellowyourspirit.com
END:VEVENT
BEGIN:VEVENT
DTSTART;TZID=Europe/Athens:20190207T191500
DTEND;TZID=Europe/Athens:20190207T201500
DTSTAMP:20260425T135439
CREATED:20190201T231447Z
LAST-MODIFIED:20190201T231447Z
UID:3210-1549566900-1549570500@yellowyourspirit.com
SUMMARY:Beginners Hatha/Vinyasa at House Hub
DESCRIPTION:If you have never done yoga before\, or have dabbled in it then this is the class for you! \nIf you HAVE done yoga before\, this still can be the class for you! \nEvery Thursday at House Hub we will practice Hatha yoga with elements of Vinyasa to soothe and stretch the body. Our breath will guide us\, as always\, but we will pay closer attention to it during the practice.
URL:https://yellowyourspirit.com/event/beginners-hatha-vinyasa-at-house-hub/
LOCATION:House Hub\, Othonos 93\, kifisia\, Greece
ORGANIZER;CN="Elli":MAILTO:elli@yellowyourspirit.com
END:VEVENT
BEGIN:VEVENT
DTSTART;TZID=Europe/Athens:20190131T190000
DTEND;TZID=Europe/Athens:20190131T200000
DTSTAMP:20260425T135439
CREATED:20181226T121341Z
LAST-MODIFIED:20181226T121357Z
UID:3086-1548961200-1548964800@yellowyourspirit.com
SUMMARY:Hatha/Vinyasa at House Hub for Beginners
DESCRIPTION:If you have never done yoga before\, or have dabbled in it then this is the class for you! \nIf you HAVE done yoga before\, this still can be the class for you! \nEvery Thursday at House Hub we will practice Hatha yoga with elements of Vinyasa to soothe and stretch the body. Our breath will guide us\, as always\, but we will pay closer attention to it during the practice.
URL:https://yellowyourspirit.com/event/hatha-vinyasa-at-house-hub-for-beginners-4/
LOCATION:House Hub\, Othonos 93\, kifisia\, Greece
ORGANIZER;CN="Elli":MAILTO:elli@yellowyourspirit.com
END:VEVENT
BEGIN:VEVENT
DTSTART;TZID=Europe/Athens:20190124T190000
DTEND;TZID=Europe/Athens:20190124T200000
DTSTAMP:20260425T135439
CREATED:20181226T121131Z
LAST-MODIFIED:20181226T121154Z
UID:3082-1548356400-1548360000@yellowyourspirit.com
SUMMARY:Hatha/Vinyasa at House Hub for Beginners
DESCRIPTION:If you have never done yoga before\, or have dabbled in it then this is the class for you! \nIf you HAVE done yoga before\, this still can be the class for you! \nEvery Thursday at House Hub we will practice Hatha yoga with elements of Vinyasa to soothe and stretch the body. Our breath will guide us\, as always\, but we will pay closer attention to it during the practice.
URL:https://yellowyourspirit.com/event/hatha-vinyasa-at-house-hub-for-beginners-2/
LOCATION:House Hub\, Othonos 93\, kifisia\, Greece
ORGANIZER;CN="Elli":MAILTO:elli@yellowyourspirit.com
END:VEVENT
BEGIN:VEVENT
DTSTART;TZID=Europe/Athens:20190117T190000
DTEND;TZID=Europe/Athens:20190117T200000
DTSTAMP:20260425T135439
CREATED:20181226T121252Z
LAST-MODIFIED:20181226T121252Z
UID:3084-1547751600-1547755200@yellowyourspirit.com
SUMMARY:Hatha/Vinyasa at House Hub for Beginners
DESCRIPTION:If you have never done yoga before\, or have dabbled in it then this is the class for you! \nIf you HAVE done yoga before\, this still can be the class for you! \nEvery Thursday at House Hub we will practice Hatha yoga with elements of Vinyasa to soothe and stretch the body. Our breath will guide us\, as always\, but we will pay closer attention to it during the practice.
URL:https://yellowyourspirit.com/event/hatha-vinyasa-at-house-hub-for-beginners-3/
LOCATION:House Hub\, Othonos 93\, kifisia\, Greece
ORGANIZER;CN="Elli":MAILTO:elli@yellowyourspirit.com
END:VEVENT
BEGIN:VEVENT
DTSTART;TZID=Europe/Athens:20190110T190000
DTEND;TZID=Europe/Athens:20190110T200000
DTSTAMP:20260425T135439
CREATED:20181226T121025Z
LAST-MODIFIED:20181226T121025Z
UID:3080-1547146800-1547150400@yellowyourspirit.com
SUMMARY:Hatha/Vinyasa at House Hub for Beginners
DESCRIPTION:If you have never done yoga before\, or have dabbled in it then this is the class for you! \nIf you HAVE done yoga before\, this still can be the class for you! \nEvery Thursday at House Hub we will practice Hatha yoga with elements of Vinyasa to soothe and stretch the body. Our breath will guide us\, as always\, but we will pay closer attention to it during the practice. \n 
URL:https://yellowyourspirit.com/event/hatha-vinyasa-at-house-hub-for-beginners/
LOCATION:House Hub\, Othonos 93\, kifisia\, Greece
ORGANIZER;CN="Elli":MAILTO:elli@yellowyourspirit.com
END:VEVENT
BEGIN:VEVENT
DTSTART;TZID=Europe/Athens:20181220T190000
DTEND;TZID=Europe/Athens:20181220T200000
DTSTAMP:20260425T135439
CREATED:20181211T093735Z
LAST-MODIFIED:20181211T093735Z
UID:3036-1545332400-1545336000@yellowyourspirit.com
SUMMARY:All Levels Hatha/Vinyasa Yoga at House Hub in Kifisia
DESCRIPTION:Join me for a lovely evening at House Hub in Kifisia! \nWe will do a little Vinyasa to warm up and Hatha to ground down and feel our bodies. \nIt is an All Levels class in English with Greek translation. \nEmail me with any questions 🙂
URL:https://yellowyourspirit.com/event/all-levels-hatha-vinyasa-yoga-at-house-hub-in-kifisia/
LOCATION:House Hub\, Othonos 93\, kifisia\, Greece
END:VEVENT
BEGIN:VEVENT
DTSTART;TZID=Europe/Athens:20181216T120000
DTEND;TZID=Europe/Athens:20181216T130000
DTSTAMP:20260425T135439
CREATED:20181211T093232Z
LAST-MODIFIED:20181211T093232Z
UID:3034-1544961600-1544965200@yellowyourspirit.com
SUMMARY:All Levels Vinyasa Yoga at House Hub in Kifisia
DESCRIPTION:This will be an ALL levels Vinyasa Yoga class at a new space in Kifissia called House Hub! If it’s your first time it’s a great class to start with. You can do it for sure! We will breathe\, stretch\, strengthen\, and relax into a lovely Sunday to get ready for the week ahead. Class starts right at 12:00 so come a bit early to get settled. \nThe space is in an apartment building and a 4-minute walk from the Kifisia train stop! (There are two free spots in front of the building if you are driving) Bring a mat if you can but we also have about 5 for you to use.\nThe class is in English but I speak fluent Greek and will be very helpful if needed 🙂
URL:https://yellowyourspirit.com/event/all-levels-vinyasa-yoga-at-house-hub-in-kifisia/
LOCATION:House Hub\, Othonos 93\, kifisia\, Greece
END:VEVENT
BEGIN:VEVENT
DTSTART;TZID=Europe/Athens:20181128T180000
DTEND;TZID=Europe/Athens:20181128T190000
DTSTAMP:20260425T135439
CREATED:20181120T195501Z
LAST-MODIFIED:20181120T195501Z
UID:3023-1543428000-1543431600@yellowyourspirit.com
SUMMARY:Vinyasa Yoga at House Hub
DESCRIPTION:This will be an ALL levels Vinyasa Yoga class at a new space in Kifissia called House Hub! If it’s your first time it’s a great class to start with. You can do it for sure! We will breathe\, stretch\, strengthen\, and relax into a lovely evening. Class starts right at 18:00 so come a bit early to get settled. \nThe space is in an apartment building and a 4-minute walk from the Kifisia train stop! (There are two free spots in front of the building if you are driving) Bring a mat if you can but we also have about 5 for you to use.\nThe class is in English but I speak fluent Greek and will be very helpful if needed 🙂
URL:https://yellowyourspirit.com/event/vinyasa-yoga-at-house-hub/
LOCATION:House Hub\, Othonos 93\, kifisia\, Greece
END:VEVENT
BEGIN:VEVENT
DTSTART;TZID=Europe/Athens:20181022T203000
DTEND;TZID=Europe/Athens:20181022T213000
DTSTAMP:20260425T135439
CREATED:20181016T090028Z
LAST-MODIFIED:20181016T090028Z
UID:2975-1540240200-1540243800@yellowyourspirit.com
SUMMARY:Vinyasa Flow at Ayurveda Hellas
DESCRIPTION:It’s such a beautiful space with great energy.\nAll levels are welcome. We will learn to flow linking each breath to movement creating a lovely meditative practice. And as always it’s accompanied by great music!\nBring your mind\, body\, spirit\, a mat (I may have an extra or two) and 8 euro for the class.\nThat’s it!\nTaught in English but I speak Greek 🙂
URL:https://yellowyourspirit.com/event/vinyasa-flow-at-ayurveda-hellas/
LOCATION:Ayurveda Hellas\, Nikis 28\, athens\, 10557\, Greece
ORGANIZER;CN="Elli":MAILTO:elli@yellowyourspirit.com
END:VEVENT
BEGIN:VEVENT
DTSTART;TZID=Europe/Athens:20181005T180000
DTEND;TZID=Europe/Athens:20181005T190000
DTSTAMP:20260425T135439
CREATED:20180918T125125Z
LAST-MODIFIED:20180920T203023Z
UID:2910-1538762400-1538766000@yellowyourspirit.com
SUMMARY:Sunset Vinyasa Flow in Pefki
DESCRIPTION:Another beautiful rooftop in the northern suburbs of Athens! \nJoin me for a beautiful vinyasa yoga flow at ALL LEVELS. Send me a message for the address if you are interested. You can also sign up through Meetup Athens. \nTaught in English but I speak Greek and can help! \nDonation based class so all can join 🙂 Bring a mat and water.
URL:https://yellowyourspirit.com/event/sunset-vinyasa-flow-in-pefki/
ORGANIZER;CN="Elli":MAILTO:elli@yellowyourspirit.com
END:VEVENT
BEGIN:VEVENT
DTSTART;TZID=Europe/Athens:20181003T180000
DTEND;TZID=Europe/Athens:20181003T190000
DTSTAMP:20260425T135439
CREATED:20180930T214955Z
LAST-MODIFIED:20180930T215141Z
UID:2969-1538589600-1538593200@yellowyourspirit.com
SUMMARY:Vinyasa Yoga on the Acropolis Roof Deck in Koukaki
DESCRIPTION:Join me for an evening Vinyasa Flow class on a beautiful rooftop deck in Koukaki! The weather is going to be beautiful and so is the yoga (of course!) \nEmail me for details: elli@yellowyourspirit.com \nLynn teaches Kundalini yoga on her rooftop throughout the summer and in other studios during the year. Check out her site for details on this class and all of her other classes too!
URL:https://yellowyourspirit.com/event/vinyasa-yoga-on-the-acropolis-roof-deck-in-koukaki/
END:VEVENT
BEGIN:VEVENT
DTSTART;TZID=Europe/Athens:20180927T190000
DTEND;TZID=Europe/Athens:20180927T200000
DTSTAMP:20260425T135439
CREATED:20180914T181506Z
LAST-MODIFIED:20180914T182409Z
UID:2902-1538074800-1538078400@yellowyourspirit.com
SUMMARY:Sunset Vinyasa Flow
DESCRIPTION:At the Acropolis Rooftop Deck in Koukaki\, Athens \nALL levels are welcome 🙂
URL:https://yellowyourspirit.com/event/sunset-vinyasa-flow/
ATTACH;FMTTYPE=image/jpeg:https://yellowyourspirit.com/wp-content/uploads/2018/09/aussieactive-384487-unsplash.jpg
END:VEVENT
BEGIN:VEVENT
DTSTART;TZID=Europe/Athens:20180920T190000
DTEND;TZID=Europe/Athens:20180920T200000
DTSTAMP:20260425T135439
CREATED:20180914T180452Z
LAST-MODIFIED:20180914T182334Z
UID:2898-1537470000-1537473600@yellowyourspirit.com
SUMMARY:Sunset Vinyasa Flow
DESCRIPTION:At the Acropolis Rooftop Deck in Koukaki\, Greece \nALL levels are welcome 🙂
URL:https://yellowyourspirit.com/event/acropolis-rooftop-deck/
LOCATION:Acropolis Rooftop Deck\, Koukaki\, Athens\, Greece
ATTACH;FMTTYPE=image/jpeg:https://yellowyourspirit.com/wp-content/uploads/2018/09/aussieactive-384487-unsplash.jpg
END:VEVENT
END:VCALENDAR