BEGIN:VCALENDAR
VERSION:2.0
PRODID:-//Yellow Your Spirit - ECPv6.15.20//NONSGML v1.0//EN
CALSCALE:GREGORIAN
METHOD:PUBLISH
X-WR-CALNAME:Yellow Your Spirit
X-ORIGINAL-URL:https://yellowyourspirit.com
X-WR-CALDESC:Events for Yellow Your Spirit
REFRESH-INTERVAL;VALUE=DURATION:PT1H
X-Robots-Tag:noindex
X-PUBLISHED-TTL:PT1H
BEGIN:VTIMEZONE
TZID:Europe/Athens
BEGIN:DAYLIGHT
TZOFFSETFROM:+0200
TZOFFSETTO:+0300
TZNAME:EEST
DTSTART:20180325T010000
END:DAYLIGHT
BEGIN:STANDARD
TZOFFSETFROM:+0300
TZOFFSETTO:+0200
TZNAME:EET
DTSTART:20181028T010000
END:STANDARD
BEGIN:DAYLIGHT
TZOFFSETFROM:+0200
TZOFFSETTO:+0300
TZNAME:EEST
DTSTART:20190331T010000
END:DAYLIGHT
BEGIN:STANDARD
TZOFFSETFROM:+0300
TZOFFSETTO:+0200
TZNAME:EET
DTSTART:20191027T010000
END:STANDARD
BEGIN:DAYLIGHT
TZOFFSETFROM:+0200
TZOFFSETTO:+0300
TZNAME:EEST
DTSTART:20200329T010000
END:DAYLIGHT
BEGIN:STANDARD
TZOFFSETFROM:+0300
TZOFFSETTO:+0200
TZNAME:EET
DTSTART:20201025T010000
END:STANDARD
BEGIN:DAYLIGHT
TZOFFSETFROM:+0200
TZOFFSETTO:+0300
TZNAME:EEST
DTSTART:20210328T010000
END:DAYLIGHT
BEGIN:STANDARD
TZOFFSETFROM:+0300
TZOFFSETTO:+0200
TZNAME:EET
DTSTART:20211031T010000
END:STANDARD
END:VTIMEZONE
BEGIN:VEVENT
DTSTART;TZID=Europe/Athens:20200120T090000
DTEND;TZID=Europe/Athens:20200120T170000
DTSTAMP:20260425T171818
CREATED:20191231T073144Z
LAST-MODIFIED:20191231T073227Z
UID:3606-1579510800-1579539600@yellowyourspirit.com
SUMMARY:Morning Vinyasa Flow
DESCRIPTION:Monday @ 9-10 \nAll levels Vinyasa Flow \nInfinity Fitness is located next to the metro stop: ETHNIKI AMINA \nCome and Join!!
URL:https://yellowyourspirit.com/event/morning-vinyasa-flow/
LOCATION:infinity fitness\, Μεσογείων 237\, Ψυχικό.\, Greece
ORGANIZER;CN="Elli":MAILTO:elli@yellowyourspirit.com
END:VEVENT
BEGIN:VEVENT
DTSTART;TZID=Europe/Athens:20200115T190000
DTEND;TZID=Europe/Athens:20200115T200000
DTSTAMP:20260425T171818
CREATED:20191231T073523Z
LAST-MODIFIED:20191231T073523Z
UID:3610-1579114800-1579118400@yellowyourspirit.com
SUMMARY:Evening Vinyasa Flow
DESCRIPTION:
URL:https://yellowyourspirit.com/event/evening-vinyasa-flow/
LOCATION:infinity fitness\, Μεσογείων 237\, Ψυχικό.\, Greece
END:VEVENT
BEGIN:VEVENT
DTSTART;TZID=Europe/Athens:20200113T090000
DTEND;TZID=Europe/Athens:20200113T100000
DTSTAMP:20260425T171818
CREATED:20191231T073003Z
LAST-MODIFIED:20191231T073022Z
UID:3600-1578906000-1578909600@yellowyourspirit.com
SUMMARY:Morning Vinyasa Flow at Infinity Fitness
DESCRIPTION:Monday @ 9-10 \nAll levels Vinyasa Flow \nInfinity Fitness is located next to the metro stop: ETHNIKI AMINA \nCome and Join!!  \n 
URL:https://yellowyourspirit.com/event/vinyasa-flow-at-infinity-fitness/
LOCATION:infinity fitness\, Μεσογείων 237\, Ψυχικό.\, Greece
ORGANIZER;CN="Elli":MAILTO:elli@yellowyourspirit.com
END:VEVENT
BEGIN:VEVENT
DTSTART;TZID=Europe/Athens:20191205T190000
DTEND;TZID=Europe/Athens:20191205T200000
DTSTAMP:20260425T171818
CREATED:20191201T141312Z
LAST-MODIFIED:20191201T141312Z
UID:3594-1575572400-1575576000@yellowyourspirit.com
SUMMARY:Vinyasa Yoga on the Acropolis Roof Deck
DESCRIPTION:Every Wednesday from 19:00-20:00 \nVinyasa Yoga – All Levels are SO WELCOME!! \nDonation Based – pay what you can afford  \nClasses taught in English but I speak Greek too! \nIt’s gonna be beautiful and I will see you there  \n  \nHosted by Lynn Roulo on her beautiful roof deck and you can sign up online here: \nhttps://www.facebook.com/events/439326253519659/
URL:https://yellowyourspirit.com/event/vinyasa-yoga-on-the-acropolis-roof-deck-3/
ORGANIZER;CN="Elli":MAILTO:elli@yellowyourspirit.com
END:VEVENT
BEGIN:VEVENT
DTSTART;TZID=Europe/Athens:20191127T190000
DTEND;TZID=Europe/Athens:20191127T200000
DTSTAMP:20260425T171818
CREATED:20191027T110139Z
LAST-MODIFIED:20191027T110139Z
UID:3560-1574881200-1574884800@yellowyourspirit.com
SUMMARY:Vinyasa on the Acropolis Roof Deck
DESCRIPTION:Every Wednesday from 19:00-20:00 \nVinyasa Yoga – All Levels are SO WELCOME!! \nDonation Based – pay what you can afford  \nClasses taught in English but I speak Greek too! \nIt’s gonna be beautiful and I will see you there  \n  \nHosted by Lynn Roulo on her beautiful roof deck and you can sign up online here: \nhttps://www.facebook.com/events/439326253519659/
URL:https://yellowyourspirit.com/event/vinyasa-on-the-acropolis-roof-deck-10/
LOCATION:Acropolis Rooftop Deck\, Koukaki\, Athens\, Greece
ORGANIZER;CN="Elli":MAILTO:elli@yellowyourspirit.com
END:VEVENT
BEGIN:VEVENT
DTSTART;TZID=Europe/Athens:20191120T190000
DTEND;TZID=Europe/Athens:20191120T200000
DTSTAMP:20260425T171818
CREATED:20191027T105958Z
LAST-MODIFIED:20191027T105958Z
UID:3558-1574276400-1574280000@yellowyourspirit.com
SUMMARY:Vinyasa on the Acropolis Roof Deck
DESCRIPTION:Every Wednesday from 19:00-20:00 \nVinyasa Yoga – All Levels are SO WELCOME!! \nDonation Based – pay what you can afford  \nClasses taught in English but I speak Greek too! \nIt’s gonna be beautiful and I will see you there  \n  \nHosted by Lynn Roulo on her beautiful roof deck and you can sign up online here: \nhttps://www.facebook.com/events/439326253519659/
URL:https://yellowyourspirit.com/event/vinyasa-on-the-acropolis-roof-deck-9/
LOCATION:Acropolis Rooftop Deck\, Koukaki\, Athens\, Greece
ORGANIZER;CN="Elli":MAILTO:elli@yellowyourspirit.com
END:VEVENT
BEGIN:VEVENT
DTSTART;TZID=Europe/Athens:20191113T190000
DTEND;TZID=Europe/Athens:20191113T200000
DTSTAMP:20260425T171818
CREATED:20191027T105859Z
LAST-MODIFIED:20191027T105859Z
UID:3556-1573671600-1573675200@yellowyourspirit.com
SUMMARY:Vinyasa on the Acropolis Roof Deck
DESCRIPTION:Every Wednesday from 19:00-20:00 \nVinyasa Yoga – All Levels are SO WELCOME!! \nDonation Based – pay what you can afford  \nClasses taught in English but I speak Greek too! \nIt’s gonna be beautiful and I will see you there  \n  \nHosted by Lynn Roulo on her beautiful roof deck and you can sign up online here: \nhttps://www.facebook.com/events/439326253519659/
URL:https://yellowyourspirit.com/event/vinyasa-on-the-acropolis-roof-deck-8/
LOCATION:Acropolis Rooftop Deck\, Koukaki\, Athens\, Greece
ORGANIZER;CN="Elli":MAILTO:elli@yellowyourspirit.com
END:VEVENT
BEGIN:VEVENT
DTSTART;TZID=Europe/Athens:20191106T190000
DTEND;TZID=Europe/Athens:20191106T200000
DTSTAMP:20260425T171818
CREATED:20191027T105622Z
LAST-MODIFIED:20191027T105622Z
UID:3553-1573066800-1573070400@yellowyourspirit.com
SUMMARY:Vinyasa on the Acropolis Roof Deck
DESCRIPTION:Every Wednesday from 19:00-20:00 \nVinyasa Yoga – All Levels are SO WELCOME!! \nDonation Based – pay what you can afford  \nClasses taught in English but I speak Greek too! \nIt’s gonna be beautiful and I will see you there  \n  \nHosted by Lynn Roulo on her beautiful roof deck and you can sign up online here: \nhttps://www.facebook.com/events/439326253519659/ \n\n  \n 
URL:https://yellowyourspirit.com/event/vinyasa-on-the-acropolis-roof-deck-7/
LOCATION:Acropolis Rooftop Deck\, Koukaki\, Athens\, Greece
ORGANIZER;CN="Elli":MAILTO:elli@yellowyourspirit.com
END:VEVENT
BEGIN:VEVENT
DTSTART;TZID=Europe/Athens:20191030T190000
DTEND;TZID=Europe/Athens:20191030T200000
DTSTAMP:20260425T171818
CREATED:20191001T181644Z
LAST-MODIFIED:20191003T083015Z
UID:3497-1572462000-1572465600@yellowyourspirit.com
SUMMARY:Vinyasa on the Acropolis Roof Deck
DESCRIPTION:Every Wednesday from 19:00-20:00 \nVinyasa Yoga – All Levels are SO WELCOME!! \nDonation Based – pay what you can afford  \nClasses taught in English but I speak Greek too! \nIt’s gonna be beautiful and I will see you there  \n  \nHosted by Lynn Roulo on her beautiful roof deck and you can sign up online here: \nhttps://www.facebook.com/events/439326253519659/
URL:https://yellowyourspirit.com/event/vinyasa-on-the-acropolis-roof-deck-6/
LOCATION:Acropolis Rooftop Deck\, Koukaki\, Athens\, Greece
ATTACH;FMTTYPE=image/jpeg:https://yellowyourspirit.com/wp-content/uploads/2019/10/AcropolisRoof.jpg
ORGANIZER;CN="Elli":MAILTO:elli@yellowyourspirit.com
END:VEVENT
BEGIN:VEVENT
DTSTART;TZID=Europe/Athens:20191023T190000
DTEND;TZID=Europe/Athens:20191023T190000
DTSTAMP:20260425T171818
CREATED:20191001T181510Z
LAST-MODIFIED:20191003T082926Z
UID:3495-1571857200-1571857200@yellowyourspirit.com
SUMMARY:Vinyasa on the Acropolis Roof Deck
DESCRIPTION:Every Wednesday from 19:00-20:00 \nVinyasa Yoga – All Levels are SO WELCOME!! \nDonation Based – pay what you can afford  \nClasses taught in English but I speak Greek too! \nIt’s gonna be beautiful and I will see you there  \n  \nHosted by Lynn Roulo on her beautiful roof deck and you can sign up online here: \nhttps://www.facebook.com/events/439326253519659/
URL:https://yellowyourspirit.com/event/vinyasa-on-the-acropolis-roof-deck-5/
LOCATION:Acropolis Rooftop Deck\, Koukaki\, Athens\, Greece
ATTACH;FMTTYPE=image/jpeg:https://yellowyourspirit.com/wp-content/uploads/2019/10/AcropolisRoof.jpg
ORGANIZER;CN="Elli":MAILTO:elli@yellowyourspirit.com
END:VEVENT
BEGIN:VEVENT
DTSTART;TZID=Europe/Athens:20191016T190000
DTEND;TZID=Europe/Athens:20191016T200000
DTSTAMP:20260425T171818
CREATED:20191001T181358Z
LAST-MODIFIED:20191003T082850Z
UID:3493-1571252400-1571256000@yellowyourspirit.com
SUMMARY:Vinyasa on the Acropolis Roof Deck
DESCRIPTION:Every Wednesday from 19:00-20:00 \nVinyasa Yoga – All Levels are SO WELCOME!! \nDonation Based – pay what you can afford  \nClasses taught in English but I speak Greek too! \nIt’s gonna be beautiful and I will see you there  \n  \nHosted by Lynn Roulo on her beautiful roof deck and you can sign up online here: \nhttps://www.facebook.com/events/439326253519659/
URL:https://yellowyourspirit.com/event/vinyasa-on-the-acropolis-roof-deck-4/
ATTACH;FMTTYPE=image/jpeg:https://yellowyourspirit.com/wp-content/uploads/2019/10/AcropolisRoof.jpg
ORGANIZER;CN="Elli":MAILTO:elli@yellowyourspirit.com
END:VEVENT
BEGIN:VEVENT
DTSTART;TZID=Europe/Athens:20191009T190000
DTEND;TZID=Europe/Athens:20191009T200000
DTSTAMP:20260425T171818
CREATED:20191001T181255Z
LAST-MODIFIED:20191003T082811Z
UID:3491-1570647600-1570651200@yellowyourspirit.com
SUMMARY:Vinyasa on the Acropolis Roof Deck
DESCRIPTION:  \nEvery Wednesday from 19:00-20:00 \nVinyasa Yoga – All Levels are SO WELCOME!! \nDonation Based – pay what you can afford  \nClasses taught in English but I speak Greek too! \nIt’s gonna be beautiful and I will see you there  \n  \nHosted by Lynn Roulo on her beautiful roof deck and you can sign up online here: \nhttps://www.facebook.com/events/439326253519659/
URL:https://yellowyourspirit.com/event/vinyasa-on-the-acropolis-roof-deck-3/
ATTACH;FMTTYPE=image/jpeg:https://yellowyourspirit.com/wp-content/uploads/2019/10/AcropolisRoof.jpg
ORGANIZER;CN="Elli":MAILTO:elli@yellowyourspirit.com
END:VEVENT
BEGIN:VEVENT
DTSTART;TZID=Europe/Athens:20191002T190000
DTEND;TZID=Europe/Athens:20191002T200000
DTSTAMP:20260425T171818
CREATED:20191001T181135Z
LAST-MODIFIED:20191001T181135Z
UID:3489-1570042800-1570046400@yellowyourspirit.com
SUMMARY:Vinyasa on the Acropolis Roof Deck
DESCRIPTION:Every Wednesday from 19:00-20:00 \nVinyasa Yoga – All Levels are SO WELCOME!! \nDonation Based – pay what you can afford  \nClasses taught in English but I speak Greek too! \nIt’s gonna be beautiful and I will see you there  \n  \nHosted by Lynn Roulo on her beautiful roof deck and you can sign up online here: \nhttps://www.facebook.com/events/439326253519659/
URL:https://yellowyourspirit.com/event/vinyasa-on-the-acropolis-roof-deck-2/
ORGANIZER;CN="Elli":MAILTO:elli@yellowyourspirit.com
END:VEVENT
BEGIN:VEVENT
DTSTART;TZID=Europe/Athens:20190925T190000
DTEND;TZID=Europe/Athens:20190925T200000
DTSTAMP:20260425T171818
CREATED:20190910T153814Z
LAST-MODIFIED:20190910T153814Z
UID:3482-1569438000-1569441600@yellowyourspirit.com
SUMMARY:Vinyasa Flow on the Acropolis Roof Deck
DESCRIPTION:Every Wednesday from 19:00-20:00 \nVinyasa Yoga – All Levels are SO WELCOME!! \nDonation Based – pay what you can afford  \nClasses taught in English but I speak Greek too! \nIt’s gonna be beautiful and I will see you there  \n  \nHosted by Lynn Roulo on her beautiful roof deck and you can sign up online here: \nhttps://www.facebook.com/events/439326253519659/
URL:https://yellowyourspirit.com/event/vinyasa-flow-on-the-acropolis-roof-deck-7/
LOCATION:Acropolis Rooftop Deck\, Koukaki\, Athens\, Greece
ORGANIZER;CN="Elli":MAILTO:elli@yellowyourspirit.com
END:VEVENT
BEGIN:VEVENT
DTSTART;TZID=Europe/Athens:20190918T190000
DTEND;TZID=Europe/Athens:20190918T200000
DTSTAMP:20260425T171818
CREATED:20190910T153709Z
LAST-MODIFIED:20190910T153709Z
UID:3480-1568833200-1568836800@yellowyourspirit.com
SUMMARY:Vinyasa Flow on the Acropolis Roof Deck
DESCRIPTION:Every Wednesday from 19:00-20:00 \nVinyasa Yoga – All Levels are SO WELCOME!! \nDonation Based – pay what you can afford  \nClasses taught in English but I speak Greek too! \nIt’s gonna be beautiful and I will see you there  \n  \nHosted by Lynn Roulo on her beautiful roof deck and you can sign up online here: \nhttps://www.facebook.com/events/439326253519659/
URL:https://yellowyourspirit.com/event/vinyasa-flow-on-the-acropolis-roof-deck-6/
LOCATION:Acropolis Rooftop Deck\, Koukaki\, Athens\, Greece
ORGANIZER;CN="Elli":MAILTO:elli@yellowyourspirit.com
END:VEVENT
BEGIN:VEVENT
DTSTART;TZID=Europe/Athens:20190911T190000
DTEND;TZID=Europe/Athens:20190911T200000
DTSTAMP:20260425T171818
CREATED:20190910T153543Z
LAST-MODIFIED:20190910T153543Z
UID:3478-1568228400-1568232000@yellowyourspirit.com
SUMMARY:Vinyasa Flow on the Acropolis Roof Deck
DESCRIPTION:Every Wednesday from 19:00-20:00 \nVinyasa Yoga – All Levels are SO WELCOME!! \nDonation Based – pay what you can afford  \nClasses taught in English but I speak Greek too! \nIt’s gonna be beautiful and I will see you there  \n  \nHosted by Lynn Roulo on her beautiful roof deck and you can sign up online here: \nhttps://www.facebook.com/events/439326253519659/
URL:https://yellowyourspirit.com/event/vinyasa-flow-on-the-acropolis-roof-deck-5/
LOCATION:Acropolis Rooftop Deck\, Koukaki\, Athens\, Greece
END:VEVENT
BEGIN:VEVENT
DTSTART;TZID=Europe/Athens:20190828T190000
DTEND;TZID=Europe/Athens:20190828T200000
DTSTAMP:20260425T171818
CREATED:20190810T161234Z
LAST-MODIFIED:20190810T161234Z
UID:3464-1567018800-1567022400@yellowyourspirit.com
SUMMARY:Vinyasa Flow on the Acropolis Roof Deck
DESCRIPTION:Every Wednesday from 19:00-20:00 \nVinyasa Yoga – All Levels are SO WELCOME!! \nDonation Based – pay what you can afford  \nClasses taught in English but I speak Greek too! \nIt’s gonna be beautiful and I will see you there  \n  \nHosted by Lynn Roulo on her beautiful roof deck and you can sign up online here: \nhttps://www.facebook.com/events/439326253519659/
URL:https://yellowyourspirit.com/event/vinyasa-flow-on-the-acropolis-roof-deck-4/
LOCATION:Acropolis Rooftop Deck\, Koukaki\, Athens\, Greece
ORGANIZER;CN="Elli":MAILTO:elli@yellowyourspirit.com
END:VEVENT
BEGIN:VEVENT
DTSTART;TZID=Europe/Athens:20190821T190000
DTEND;TZID=Europe/Athens:20190821T200000
DTSTAMP:20260425T171818
CREATED:20190810T161116Z
LAST-MODIFIED:20190810T161116Z
UID:3462-1566414000-1566417600@yellowyourspirit.com
SUMMARY:Vinyasa Flow on the Acropolis Roof Deck
DESCRIPTION:Every Wednesday from 19:00-20:00 \nVinyasa Yoga – All Levels are SO WELCOME!! \nDonation Based – pay what you can afford  \nClasses taught in English but I speak Greek too! \nIt’s gonna be beautiful and I will see you there  \n  \nHosted by Lynn Roulo on her beautiful roof deck and you can sign up online here: \nhttps://www.facebook.com/events/439326253519659/
URL:https://yellowyourspirit.com/event/vinyasa-flow-on-the-acropolis-roof-deck-3/
LOCATION:Acropolis Rooftop Deck\, Koukaki\, Athens\, Greece
ORGANIZER;CN="Elli":MAILTO:elli@yellowyourspirit.com
END:VEVENT
BEGIN:VEVENT
DTSTART;TZID=Europe/Athens:20190814T190000
DTEND;TZID=Europe/Athens:20190814T200000
DTSTAMP:20260425T171818
CREATED:20190810T160955Z
LAST-MODIFIED:20190810T160955Z
UID:3460-1565809200-1565812800@yellowyourspirit.com
SUMMARY:Vinyasa Flow on the Acropolis Roof Deck
DESCRIPTION:Every Wednesday from 19:00-20:00 \nVinyasa Yoga – All Levels are SO WELCOME!! \nDonation Based – pay what you can afford  \nClasses taught in English but I speak Greek too! \nIt’s gonna be beautiful and I will see you there  \n  \nHosted by Lynn Roulo on her beautiful roof deck and you can sign up online here: \nhttps://www.facebook.com/events/439326253519659/
URL:https://yellowyourspirit.com/event/vinyasa-flow-on-the-acropolis-roof-deck-2/
LOCATION:Acropolis Rooftop Deck\, Koukaki\, Athens\, Greece
ORGANIZER;CN="Elli":MAILTO:elli@yellowyourspirit.com
END:VEVENT
BEGIN:VEVENT
DTSTART;TZID=Europe/Athens:20190807T190000
DTEND;TZID=Europe/Athens:20190807T200000
DTSTAMP:20260425T171818
CREATED:20190810T160838Z
LAST-MODIFIED:20190810T160838Z
UID:3457-1565204400-1565208000@yellowyourspirit.com
SUMMARY:Vinyasa Flow on the Acropolis Roof Deck
DESCRIPTION:Every Wednesday from 19:00-20:00 \nVinyasa Yoga – All Levels are SO WELCOME!! \nDonation Based – pay what you can afford  \nClasses taught in English but I speak Greek too! \nIt’s gonna be beautiful and I will see you there  \n  \nHosted by Lynn Roulo on her beautiful roof deck and you can sign up online here: \nhttps://www.facebook.com/events/439326253519659/
URL:https://yellowyourspirit.com/event/vinyasa-flow-on-the-acropolis-roof-deck/
ORGANIZER;CN="Elli":MAILTO:elli@yellowyourspirit.com
END:VEVENT
BEGIN:VEVENT
DTSTART;TZID=Europe/Athens:20190724T190000
DTEND;TZID=Europe/Athens:20190724T200000
DTSTAMP:20260425T171818
CREATED:20190724T120311Z
LAST-MODIFIED:20190724T120311Z
UID:3451-1563994800-1563998400@yellowyourspirit.com
SUMMARY:Vinyasa on the Acropolis Roof Deck -Heart Opening
DESCRIPTION:Every Wednesday from 19:00-20:00 \nVinyasa Yoga – All Levels are SO WELCOME!! \nDonation Based – pay what you can afford 🙂 \nClasses taught in English but I speak Greek too! \nIt’s gonna be beautiful and I will see you there 🙂 \n  \nHosted by Lynn Roulo on her beautiful roof deck and you can sign up online here: \nhttps://www.facebook.com/events/439326253519659/
URL:https://yellowyourspirit.com/event/vinyasa-on-the-acropolis-roof-deck-heart-opening/
LOCATION:Acropolis Rooftop Deck\, Koukaki\, Athens\, Greece
END:VEVENT
BEGIN:VEVENT
DTSTART;TZID=Europe/Athens:20190717T190000
DTEND;TZID=Europe/Athens:20190717T200000
DTSTAMP:20260425T171818
CREATED:20190701T172153Z
LAST-MODIFIED:20190701T172153Z
UID:3437-1563390000-1563393600@yellowyourspirit.com
SUMMARY:Vinyasa Yoga (Full Moonish) on the Roof Deck
DESCRIPTION:The full moon is on the 16th but we still have the energy of it on the 17th so we will add in a special Chandra Namaskar flow to take in all the feminine energy we can! \nEvery Wednesday from 19:00-20:00 \nVinyasa Yoga – All Levels are SO WELCOME!! \nDonation Based – pay what you can afford 🙂 \nClasses taught in English but I speak Greek too! \nIt’s gonna be beautiful and I will see you there 🙂 \n  \nHosted by Lynn Roulo on her beautiful roof deck and you can sign up online here: \nhttps://www.facebook.com/events/439326253519659/
URL:https://yellowyourspirit.com/event/vinyasa-yoga-full-moonish-on-the-roof-deck/
LOCATION:Acropolis Rooftop Deck\, Koukaki\, Athens\, Greece
END:VEVENT
BEGIN:VEVENT
DTSTART;TZID=Europe/Athens:20190710T190000
DTEND;TZID=Europe/Athens:20190710T200000
DTSTAMP:20260425T171818
CREATED:20190701T171943Z
LAST-MODIFIED:20190701T171943Z
UID:3435-1562785200-1562788800@yellowyourspirit.com
SUMMARY:Vinyasa Yoga on the Roof Deck
DESCRIPTION:Every Wednesday from 19:00-20:00 \nVinyasa Yoga – All Levels are SO WELCOME!! \nDonation Based – pay what you can afford 🙂 \nClasses taught in English but I speak Greek too! \nIt’s gonna be beautiful and I will see you there 🙂 \n  \nHosted by Lynn Roulo on her beautiful roof deck and you can sign up online here: \nhttps://www.facebook.com/events/439326253519659/
URL:https://yellowyourspirit.com/event/vinyasa-yoga-on-the-roof-deck/
LOCATION:Acropolis Rooftop Deck\, Koukaki\, Athens\, Greece
END:VEVENT
BEGIN:VEVENT
DTSTART;TZID=Europe/Athens:20190703T190000
DTEND;TZID=Europe/Athens:20190703T200000
DTSTAMP:20260425T171818
CREATED:20190701T170217Z
LAST-MODIFIED:20190701T170217Z
UID:3432-1562180400-1562184000@yellowyourspirit.com
SUMMARY:Vinyasa on the Acropolis Roof Deck
DESCRIPTION:Every Wednesday from 19:00-20:00 \nVinyasa Yoga – All Levels are SO WELCOME!! \nDonation Based – pay what you can afford 🙂 \nClasses taught in English but I speak Greek too! \nIt’s gonna be beautiful and I will see you there 🙂 \n  \nHosted by Lynn Roulo on her beautiful roof deck and you can sign up online here: \nhttps://www.facebook.com/events/439326253519659/
URL:https://yellowyourspirit.com/event/vinyasa-on-the-acropolis-roof-deck/
LOCATION:Acropolis Rooftop Deck\, Koukaki\, Athens\, Greece
END:VEVENT
BEGIN:VEVENT
DTSTART;TZID=Europe/Athens:20190626T190000
DTEND;TZID=Europe/Athens:20190626T200000
DTSTAMP:20260425T171818
CREATED:20190616T170522Z
LAST-MODIFIED:20190616T170522Z
UID:3410-1561575600-1561579200@yellowyourspirit.com
SUMMARY:Vinyasa Yoga on the Acropolis Roof Deck
DESCRIPTION:Every Wednesday from 19:00-20:00 \nVinyasa Yoga – All Levels \nDonation Based – pay what you can afford 🙂 \nClasses taught in English but I speak Greek too! \n  \nHosted by Lynn Roulo on her beautiful roof deck and you can sign up online here: \n  \nSunset Yoga on the Acropolis Roof Deck
URL:https://yellowyourspirit.com/event/vinyasa-yoga-on-the-acropolis-roof-deck-2/
ORGANIZER;CN="Elli":MAILTO:elli@yellowyourspirit.com
END:VEVENT
BEGIN:VEVENT
DTSTART;TZID=Europe/Athens:20190619T190000
DTEND;TZID=Europe/Athens:20190619T200000
DTSTAMP:20260425T171818
CREATED:20190616T170257Z
LAST-MODIFIED:20190616T170257Z
UID:3407-1560970800-1560974400@yellowyourspirit.com
SUMMARY:Vinyasa Yoga on the Acropolis Roof Deck
DESCRIPTION:Every Wednesday from 19:00-20:00 \nVinyasa Yoga – All Levels \nDonation Based – pay what you can afford 🙂 \nClasses taught in English but I speak Greek too! \n  \nHosted by Lynn Roulo on her beautiful roof deck and you can sign up online here: \nSunset Yoga on the Acropolis Roof Deck
URL:https://yellowyourspirit.com/event/vinyasa-yoga-on-the-acropolis-roof-deck/
ORGANIZER;CN="Elli":MAILTO:elli@yellowyourspirit.com
END:VEVENT
BEGIN:VEVENT
DTSTART;TZID=Europe/Athens:20190520T190000
DTEND;TZID=Europe/Athens:20190520T200000
DTSTAMP:20260425T171818
CREATED:20190517T074540Z
LAST-MODIFIED:20190517T074631Z
UID:3394-1558378800-1558382400@yellowyourspirit.com
SUMMARY:Sunset Vinyasa Yoga on Acropolis Roofdeck
DESCRIPTION:A gentle\, all-levels Vinyasa Yoga practice with a beautiful view of the Parthenon. 🙂 \n19:00-20:00 in Koukaki\, Athens
URL:https://yellowyourspirit.com/event/sunset-vinyasa-yoga-on-acropolis-roofdeck/
END:VEVENT
BEGIN:VEVENT
DTSTART;TZID=Europe/Athens:20190427T170000
DTEND;TZID=Europe/Athens:20190504T090000
DTSTAMP:20260425T171818
CREATED:20190219T081803Z
LAST-MODIFIED:20190219T081803Z
UID:3304-1556384400-1556960400@yellowyourspirit.com
SUMMARY:Yoga and Sailing Holiday in Corfu
DESCRIPTION:Join me and Tommy the Skipper in Corfu\, Greece on April 27-May 4 2019 for a Yoga and Sailing Holiday to remember! \n  \nGet all the info HERE! 
URL:https://yellowyourspirit.com/event/yoga-and-sailing-holiday-in-corfu-2/
LOCATION:Corfu\, Greece
ORGANIZER;CN="Elli":MAILTO:elli@yellowyourspirit.com
END:VEVENT
BEGIN:VEVENT
DTSTART;TZID=Europe/Athens:20190407T150000
DTEND;TZID=Europe/Athens:20190407T170000
DTSTAMP:20260425T171818
CREATED:20190317T132232Z
LAST-MODIFIED:20190317T132343Z
UID:3344-1554649200-1554656400@yellowyourspirit.com
SUMMARY:Chakras 101 - An Introduction to the Energy Centers in Our Bodies
DESCRIPTION:Chakra 101- An Introduction to the Energy Centers in Our Bodies \nChakras are energy centers\, vortexes\, that help facilitate the flow of energy throughout our bodies. They can be overstimulated and excessive or insufficiently stimulated and deficient. Each of these has different effects on our physical and emotional well-being. \nLearning about the Chakra System is a simple way to begin to place awareness towards our physical bodies and emotions. It helps us to understand the symptoms that coincide with each chakra\, in order to be able to identify and put forth the proper effort to heal holistically. \nJoin me on Sunday\, April 7 from 3-5pm at Swaha Yoga Studio for some tea\, a chakra snack or two\, some very light yoga\, and a lovely lesson on the chakra systems. \nWalk away with more awareness of the physical body\, the emotional body\, and a couple of techniques you can use to bring movement and flow to each energy center that lies within you. \nWhat We Will Cover: \n*An overview of the chakra system\n*What each chakra represents\n*How to know if you are excessive or deficient in each chakra\n*How the ascending and descending currents play a role in the journey\n*Kundalini Shakti and the energy of the coiled snake\n*Shiva and Shakti – One of the many Gods and Goddesses in Hindu\nmythology\n*What you can do to help loosen and ignite the energy in each chakra \nPlease contact me with any questions 🙂 \nAfter\, join some of us for a little food and come along to Kundalini Yoga and Gong bath at Ayurveda Hellas with Lynn Roulo.
URL:https://yellowyourspirit.com/event/chakras-101-an-introduction-to-the-energy-centers-in-our-bodies/
LOCATION:Swaha Yoga Center\, Kallisperi 11\, Athens\, 11742\, Greece
ORGANIZER;CN="Elli":MAILTO:elli@yellowyourspirit.com
END:VEVENT
BEGIN:VEVENT
DTSTART;TZID=Europe/Athens:20190228T191500
DTEND;TZID=Europe/Athens:20190228T201500
DTSTAMP:20260425T171818
CREATED:20190201T231734Z
LAST-MODIFIED:20190201T231734Z
UID:3216-1551381300-1551384900@yellowyourspirit.com
SUMMARY:Beginners Hatha/Vinyasa at House Hub
DESCRIPTION:If you have never done yoga before\, or have dabbled in it then this is the class for you! \nIf you HAVE done yoga before\, this still can be the class for you! \nEvery Thursday at House Hub we will practice Hatha yoga with elements of Vinyasa to soothe and stretch the body. Our breath will guide us\, as always\, but we will pay closer attention to it during the practice.
URL:https://yellowyourspirit.com/event/beginners-hatha-vinyasa-at-house-hub-4/
LOCATION:House Hub\, Othonos 93\, kifisia\, Greece
ORGANIZER;CN="Elli":MAILTO:elli@yellowyourspirit.com
END:VEVENT
END:VCALENDAR