BEGIN:VCALENDAR
VERSION:2.0
PRODID:-//Yellow Your Spirit - ECPv6.15.20//NONSGML v1.0//EN
CALSCALE:GREGORIAN
METHOD:PUBLISH
X-WR-CALNAME:Yellow Your Spirit
X-ORIGINAL-URL:https://yellowyourspirit.com
X-WR-CALDESC:Events for Yellow Your Spirit
REFRESH-INTERVAL;VALUE=DURATION:PT1H
X-Robots-Tag:noindex
X-PUBLISHED-TTL:PT1H
BEGIN:VTIMEZONE
TZID:Europe/Athens
BEGIN:DAYLIGHT
TZOFFSETFROM:+0200
TZOFFSETTO:+0300
TZNAME:EEST
DTSTART:20190331T010000
END:DAYLIGHT
BEGIN:STANDARD
TZOFFSETFROM:+0300
TZOFFSETTO:+0200
TZNAME:EET
DTSTART:20191027T010000
END:STANDARD
BEGIN:DAYLIGHT
TZOFFSETFROM:+0200
TZOFFSETTO:+0300
TZNAME:EEST
DTSTART:20200329T010000
END:DAYLIGHT
BEGIN:STANDARD
TZOFFSETFROM:+0300
TZOFFSETTO:+0200
TZNAME:EET
DTSTART:20201025T010000
END:STANDARD
BEGIN:DAYLIGHT
TZOFFSETFROM:+0200
TZOFFSETTO:+0300
TZNAME:EEST
DTSTART:20210328T010000
END:DAYLIGHT
BEGIN:STANDARD
TZOFFSETFROM:+0300
TZOFFSETTO:+0200
TZNAME:EET
DTSTART:20211031T010000
END:STANDARD
END:VTIMEZONE
BEGIN:VEVENT
DTSTART;TZID=Europe/Athens:20200127T090000
DTEND;TZID=Europe/Athens:20200127T100000
DTSTAMP:20260425T163852
CREATED:20191231T073331Z
LAST-MODIFIED:20191231T073331Z
UID:3608-1580115600-1580119200@yellowyourspirit.com
SUMMARY:Morning Vinyasa Flow
DESCRIPTION:Monday @ 9-10 \nAll levels Vinyasa Flow \nInfinity Fitness is located next to the metro stop: ETHNIKI AMINA \nCome and Join!!
URL:https://yellowyourspirit.com/event/morning-vinyasa-flow-2/
LOCATION:infinity fitness\, Μεσογείων 237\, Ψυχικό.\, Greece
ORGANIZER;CN="Elli":MAILTO:elli@yellowyourspirit.com
END:VEVENT
BEGIN:VEVENT
DTSTART;TZID=Europe/Athens:20200129T190000
DTEND;TZID=Europe/Athens:20200129T200000
DTSTAMP:20260425T163852
CREATED:20191231T073727Z
LAST-MODIFIED:20191231T073727Z
UID:3614-1580324400-1580328000@yellowyourspirit.com
SUMMARY:Evening Vinyasa Flow
DESCRIPTION:Wednesdays @ 19-20:00 \nAll levels Vinyasa Flow \nInfinity Fitness is located next to the metro stop: ETHNIKI AMINA \nCome and Join!!
URL:https://yellowyourspirit.com/event/evening-vinyasa-flow-3/
LOCATION:infinity fitness\, Μεσογείων 237\, Ψυχικό.\, Greece
ORGANIZER;CN="Elli":MAILTO:elli@yellowyourspirit.com
END:VEVENT
BEGIN:VEVENT
DTSTART;TZID=Europe/Athens:20200205T190000
DTEND;TZID=Europe/Athens:20200205T200000
DTSTAMP:20260425T163852
CREATED:20200204T104308Z
LAST-MODIFIED:20200204T104308Z
UID:3628-1580929200-1580932800@yellowyourspirit.com
SUMMARY:Vinyasa Evening All Levels
DESCRIPTION:Wednesday @ 19:00-20:00 \nAll levels Vinyasa Flow \nInfinity Fitness is located next to the metro stop: ETHNIKI AMINA \nCome and Join!! \n12€ drop-in \n60€ 8 classes \n70€ 10 classes \nSIGN UP WITH LINK BELOW
URL:https://yellowyourspirit.com/event/vinyasa-evening-all-levels/
LOCATION:infinity fitness\, Μεσογείων 237\, Ψυχικό.\, Greece
END:VEVENT
BEGIN:VEVENT
DTSTART;TZID=Europe/Athens:20200210T090000
DTEND;TZID=Europe/Athens:20200210T100000
DTSTAMP:20260425T163852
CREATED:20200204T103736Z
LAST-MODIFIED:20200204T110035Z
UID:3622-1581325200-1581328800@yellowyourspirit.com
SUMMARY:Morning Vinyasa All Levels
DESCRIPTION:Monday @ 9-10 \nAll levels Vinyasa Flow \nInfinity Fitness is located next to the metro stop: ETHNIKI AMINA \nCome and Join!! \n12€ drop-in \n60€ 8 classes \n70€ 10 classes
URL:https://yellowyourspirit.com/event/morning-vinyasa-all-levels/
LOCATION:infinity fitness\, Μεσογείων 237\, Ψυχικό.\, Greece
END:VEVENT
BEGIN:VEVENT
DTSTART;TZID=Europe/Athens:20200212T190000
DTEND;TZID=Europe/Athens:20200212T200000
DTSTAMP:20260425T163852
CREATED:20200204T104427Z
LAST-MODIFIED:20200204T104441Z
UID:3630-1581534000-1581537600@yellowyourspirit.com
SUMMARY:Vinyasa Evening All Levels
DESCRIPTION:Wednesday @ 19:00-20:00 \nAll levels Vinyasa Flow \nInfinity Fitness is located next to the metro stop: ETHNIKI AMINA \nCome and Join!! \n12€ drop-in \n60€ 8 classes \n70€ 10 classes \nSIGN UP WITH LINK BELOW
URL:https://yellowyourspirit.com/event/vinyasa-evening-all-level/
END:VEVENT
BEGIN:VEVENT
DTSTART;TZID=Europe/Athens:20200217T090000
DTEND;TZID=Europe/Athens:20200217T100000
DTSTAMP:20260425T163852
CREATED:20200203T103900Z
LAST-MODIFIED:20200204T110250Z
UID:3624-1581930000-1581933600@yellowyourspirit.com
SUMMARY:Morning Vinyasa All Levels
DESCRIPTION:Monday @ 9-10 \nAll levels Vinyasa Flow \nInfinity Fitness is located next to the metro stop: ETHNIKI AMINA \nCome and Join!! \n12€ drop-in \n60€ 8 classes \n70€ 10 classes \nSIGN UP IN LINK BELOW!
URL:https://yellowyourspirit.com/event/morning-vinyasa-all-levels-2/
LOCATION:infinity fitness\, Μεσογείων 237\, Ψυχικό.\, Greece
END:VEVENT
BEGIN:VEVENT
DTSTART;TZID=Europe/Athens:20200219T190000
DTEND;TZID=Europe/Athens:20200219T200000
DTSTAMP:20260425T163852
CREATED:20200204T105629Z
LAST-MODIFIED:20200204T105629Z
UID:3635-1582138800-1582142400@yellowyourspirit.com
SUMMARY:Vinyasa Evening All Levels
DESCRIPTION:Wednesday @ 19:00-20:00 \nAll levels Vinyasa Flow \nInfinity Fitness is located next to the metro stop: ETHNIKI AMINA \nCome and Join!! \n12€ drop-in \n60€ 8 classes \n70€ 10 classes \nSIGN UP WITH LINK BELOW
URL:https://yellowyourspirit.com/event/vinyasa-evening-all-levels-3/
LOCATION:infinity fitness\, Μεσογείων 237\, Ψυχικό.\, Greece
END:VEVENT
BEGIN:VEVENT
DTSTART;TZID=Europe/Athens:20200224T090000
DTEND;TZID=Europe/Athens:20200224T100000
DTSTAMP:20260425T163852
CREATED:20200204T104040Z
LAST-MODIFIED:20200204T105759Z
UID:3626-1582534800-1582538400@yellowyourspirit.com
SUMMARY:Morning Vinyasa All Levels
DESCRIPTION:Monday @ 9-10 \nAll levels Vinyasa Flow \nInfinity Fitness is located next to the metro stop: ETHNIKI AMINA \nCome and Join!! \n12€ drop-in \n60€ 8 classes \n70€ 10 classes \nSIGN UP IN LINK BELOW!
URL:https://yellowyourspirit.com/event/morning-vinyasa-all-levels-3/
LOCATION:infinity fitness\, Μεσογείων 237\, Ψυχικό.\, Greece
END:VEVENT
BEGIN:VEVENT
DTSTART;TZID=Europe/Athens:20200226T190000
DTEND;TZID=Europe/Athens:20200226T200000
DTSTAMP:20260425T163852
CREATED:20200204T105443Z
LAST-MODIFIED:20200204T105443Z
UID:3633-1582743600-1582747200@yellowyourspirit.com
SUMMARY:Vinyasa Evening All Levels
DESCRIPTION:Wednesday @ 19:00-20:00 \nAll levels Vinyasa Flow \nInfinity Fitness is located next to the metro stop: ETHNIKI AMINA \nCome and Join!! \n12€ drop-in \n60€ 8 classes \n70€ 10 classes \nSIGN UP WITH LINK BELOW
URL:https://yellowyourspirit.com/event/vinyasa-evening-all-levels-2/
LOCATION:infinity fitness\, Μεσογείων 237\, Ψυχικό.\, Greece
END:VEVENT
BEGIN:VEVENT
DTSTART;TZID=Europe/Athens:20200302T100000
DTEND;TZID=Europe/Athens:20200302T110000
DTSTAMP:20260425T163852
CREATED:20200225T104413Z
LAST-MODIFIED:20200225T104842Z
UID:3641-1583143200-1583146800@yellowyourspirit.com
SUMMARY:MORNING VINYASA ALL LEVELS
DESCRIPTION:Morning Vinyasa All Levels\n\n\nMondays @ 10-11 \nAll levels Vinyasa Flow \nInfinity Fitness is located next to the metro stop: ETHNIKI AMINA \nCome and Join!! \nFirst class is FREE! \n12€ drop-in \n60€ 8 classes \n70€ 10 classes \nSIGN UP IN LINK BELOW!
URL:https://yellowyourspirit.com/event/morning-vinyasa-all-levels-4/
LOCATION:infinity fitness\, Μεσογείων 237\, Ψυχικό.\, Greece
ORGANIZER;CN="Elli":MAILTO:elli@yellowyourspirit.com
END:VEVENT
BEGIN:VEVENT
DTSTART;TZID=Europe/Athens:20200304T190000
DTEND;TZID=Europe/Athens:20200304T200000
DTSTAMP:20260425T163852
CREATED:20200225T105425Z
LAST-MODIFIED:20200225T105425Z
UID:3652-1583348400-1583352000@yellowyourspirit.com
SUMMARY:EVENING VINYASA ALL LEVELS
DESCRIPTION:Wednesday @ 19:00-20:00 \nAll levels Vinyasa Flow \nInfinity Fitness is located next to the metro stop: ETHNIKI AMINA \nCome and Join!! \n  \nFirst Class is FREE! \n12€ drop-in \n60€ 8 classes \n70€ 10 classes \nSIGN UP WITH LINK BELOW
URL:https://yellowyourspirit.com/event/evening-vinyasa-all-levels/
LOCATION:infinity fitness\, Μεσογείων 237\, Ψυχικό.\, Greece
ORGANIZER;CN="Elli":MAILTO:elli@yellowyourspirit.com
END:VEVENT
BEGIN:VEVENT
DTSTART;TZID=Europe/Athens:20200307T100000
DTEND;TZID=Europe/Athens:20200307T110000
DTSTAMP:20260425T163852
CREATED:20200225T105932Z
LAST-MODIFIED:20200225T105932Z
UID:3660-1583575200-1583578800@yellowyourspirit.com
SUMMARY:MORNING VINYASA ALL LEVELS
DESCRIPTION:All levels Vinyasa Flow ON SATURDAY!! \nInfinity Fitness is located next to the metro stop: ETHNIKI AMINA \nCome and Join!! \nFirst Class is FREE! \n12€ drop-in \n60€ 8 classes \n70€ 10 classes \nSIGN UP IN LINK BELOW!
URL:https://yellowyourspirit.com/event/morning-vinyasa-all-levels-9/
LOCATION:infinity fitness\, Μεσογείων 237\, Ψυχικό.\, Greece
ORGANIZER;CN="Elli":MAILTO:elli@yellowyourspirit.com
END:VEVENT
BEGIN:VEVENT
DTSTART;TZID=Europe/Athens:20200309T100000
DTEND;TZID=Europe/Athens:20200309T110000
DTSTAMP:20260425T163852
CREATED:20200225T104747Z
LAST-MODIFIED:20200225T104747Z
UID:3643-1583748000-1583751600@yellowyourspirit.com
SUMMARY:MORNING VINYASA ALL LEVELS
DESCRIPTION:All levels Vinyasa Flow \nInfinity Fitness is located next to the metro stop: ETHNIKI AMINA \nCome and Join!! \nFirst class is FREE! \n12€ drop-in \n60€ 8 classes \n70€ 10 classes \nSIGN UP IN LINK BELOW!
URL:https://yellowyourspirit.com/event/morning-vinyasa-all-levels-5/
LOCATION:infinity fitness\, Μεσογείων 237\, Ψυχικό.\, Greece
ORGANIZER;CN="Elli":MAILTO:elli@yellowyourspirit.com
END:VEVENT
BEGIN:VEVENT
DTSTART;TZID=Europe/Athens:20200311T190000
DTEND;TZID=Europe/Athens:20200311T200000
DTSTAMP:20260425T163852
CREATED:20200225T105533Z
LAST-MODIFIED:20200225T105533Z
UID:3654-1583953200-1583956800@yellowyourspirit.com
SUMMARY:EVENING VINYASA ALL LEVELS
DESCRIPTION:Wednesday @ 19:00-20:00 \nAll levels Vinyasa Flow \nInfinity Fitness is located next to the metro stop: ETHNIKI AMINA \nCome and Join!! \n  \nFirst Class is FREE! \n12€ drop-in \n60€ 8 classes \n70€ 10 classes \nSIGN UP WITH LINK BELOW
URL:https://yellowyourspirit.com/event/evening-vinyasa-all-levels-2/
LOCATION:infinity fitness\, Μεσογείων 237\, Ψυχικό.\, Greece
ORGANIZER;CN="Elli":MAILTO:elli@yellowyourspirit.com
END:VEVENT
BEGIN:VEVENT
DTSTART;TZID=Europe/Athens:20200314T100000
DTEND;TZID=Europe/Athens:20200314T110000
DTSTAMP:20260425T163852
CREATED:20200225T110028Z
LAST-MODIFIED:20200225T110028Z
UID:3662-1584180000-1584183600@yellowyourspirit.com
SUMMARY:MORNING VINYASA ALL LEVELS
DESCRIPTION:All levels Vinyasa Flow ON SATURDAY!! \nInfinity Fitness is located next to the metro stop: ETHNIKI AMINA \nCome and Join!! \nFirst Class is FREE! \n12€ drop-in \n60€ 8 classes \n70€ 10 classes \nSIGN UP IN LINK BELOW!
URL:https://yellowyourspirit.com/event/morning-vinyasa-all-levels-10/
LOCATION:infinity fitness\, Μεσογείων 237\, Ψυχικό.\, Greece
ORGANIZER;CN="Elli":MAILTO:elli@yellowyourspirit.com
END:VEVENT
BEGIN:VEVENT
DTSTART;TZID=Europe/Athens:20200316T100000
DTEND;TZID=Europe/Athens:20200316T110000
DTSTAMP:20260425T163852
CREATED:20200225T104927Z
LAST-MODIFIED:20200225T104927Z
UID:3645-1584352800-1584356400@yellowyourspirit.com
SUMMARY:MORNING VINYASA ALL LEVELS
DESCRIPTION:All levels Vinyasa Flow \nInfinity Fitness is located next to the metro stop: ETHNIKI AMINA \nCome and Join!! \nFirst class is FREE! \n12€ drop-in \n60€ 8 classes \n70€ 10 classes \nSIGN UP IN LINK BELOW!
URL:https://yellowyourspirit.com/event/morning-vinyasa-all-levels-6/
LOCATION:infinity fitness\, Μεσογείων 237\, Ψυχικό.\, Greece
ORGANIZER;CN="Elli":MAILTO:elli@yellowyourspirit.com
END:VEVENT
BEGIN:VEVENT
DTSTART;TZID=Europe/Athens:20200318T190000
DTEND;TZID=Europe/Athens:20200318T200000
DTSTAMP:20260425T163852
CREATED:20200225T105635Z
LAST-MODIFIED:20200225T105635Z
UID:3656-1584558000-1584561600@yellowyourspirit.com
SUMMARY:EVENING VINYASA ALL LEVELS
DESCRIPTION:Wednesday @ 19:00-20:00 \nAll levels Vinyasa Flow \nInfinity Fitness is located next to the metro stop: ETHNIKI AMINA \nCome and Join!! \n  \nFirst Class is FREE! \n12€ drop-in \n60€ 8 classes \n70€ 10 classes \nSIGN UP WITH LINK BELOW
URL:https://yellowyourspirit.com/event/evening-vinyasa-all-levels-3/
LOCATION:infinity fitness\, Μεσογείων 237\, Ψυχικό.\, Greece
ORGANIZER;CN="Elli":MAILTO:elli@yellowyourspirit.com
END:VEVENT
BEGIN:VEVENT
DTSTART;TZID=Europe/Athens:20200321T100000
DTEND;TZID=Europe/Athens:20200321T110000
DTSTAMP:20260425T163852
CREATED:20200225T110126Z
LAST-MODIFIED:20200225T110126Z
UID:3664-1584784800-1584788400@yellowyourspirit.com
SUMMARY:MORNING VINYASA ALL LEVELS
DESCRIPTION:All levels Vinyasa Flow ON SATURDAY!! \nInfinity Fitness is located next to the metro stop: ETHNIKI AMINA \nCome and Join!! \nFirst Class is FREE! \n12€ drop-in \n60€ 8 classes \n70€ 10 classes \nSIGN UP IN LINK BELOW!
URL:https://yellowyourspirit.com/event/morning-vinyasa-all-levels-11/
LOCATION:infinity fitness\, Μεσογείων 237\, Ψυχικό.\, Greece
ORGANIZER;CN="Elli":MAILTO:elli@yellowyourspirit.com
END:VEVENT
BEGIN:VEVENT
DTSTART;TZID=Europe/Athens:20200323T100000
DTEND;TZID=Europe/Athens:20200323T110000
DTSTAMP:20260425T163852
CREATED:20200225T105021Z
LAST-MODIFIED:20200225T105021Z
UID:3647-1584957600-1584961200@yellowyourspirit.com
SUMMARY:MORNING VINYASA ALL LEVELS
DESCRIPTION:All levels Vinyasa Flow \nInfinity Fitness is located next to the metro stop: ETHNIKI AMINA \nCome and Join!! \nFirst class is FREE! \n12€ drop-in \n60€ 8 classes \n70€ 10 classes \nSIGN UP IN LINK BELOW!
URL:https://yellowyourspirit.com/event/morning-vinyasa-all-levels-7/
LOCATION:infinity fitness\, Μεσογείων 237\, Ψυχικό.\, Greece
ORGANIZER;CN="Elli":MAILTO:elli@yellowyourspirit.com
END:VEVENT
BEGIN:VEVENT
DTSTART;TZID=Europe/Athens:20200325T190000
DTEND;TZID=Europe/Athens:20200325T200000
DTSTAMP:20260425T163852
CREATED:20200225T105730Z
LAST-MODIFIED:20200225T105730Z
UID:3658-1585162800-1585166400@yellowyourspirit.com
SUMMARY:EVENING VINYASA ALL LEVELS
DESCRIPTION:Wednesday @ 19:00-20:00 \nAll levels Vinyasa Flow \nInfinity Fitness is located next to the metro stop: ETHNIKI AMINA \nCome and Join!! \n  \nFirst Class is FREE! \n12€ drop-in \n60€ 8 classes \n70€ 10 classes \nSIGN UP WITH LINK BELOW
URL:https://yellowyourspirit.com/event/evening-vinyasa-all-levels-4/
LOCATION:infinity fitness\, Μεσογείων 237\, Ψυχικό.\, Greece
ORGANIZER;CN="Elli":MAILTO:elli@yellowyourspirit.com
END:VEVENT
BEGIN:VEVENT
DTSTART;TZID=Europe/Athens:20200328T100000
DTEND;TZID=Europe/Athens:20200328T110000
DTSTAMP:20260425T163852
CREATED:20200225T110226Z
LAST-MODIFIED:20200225T110226Z
UID:3666-1585389600-1585393200@yellowyourspirit.com
SUMMARY:MORNING VINYASA ALL LEVELS
DESCRIPTION:All levels Vinyasa Flow ON SATURDAY!! \nInfinity Fitness is located next to the metro stop: ETHNIKI AMINA \nCome and Join!! \nFirst Class is FREE! \n12€ drop-in \n60€ 8 classes \n70€ 10 classes \nSIGN UP IN LINK BELOW!
URL:https://yellowyourspirit.com/event/morning-vinyasa-all-levels-12/
LOCATION:infinity fitness\, Μεσογείων 237\, Ψυχικό.\, Greece
ORGANIZER;CN="Elli":MAILTO:elli@yellowyourspirit.com
END:VEVENT
BEGIN:VEVENT
DTSTART;TZID=Europe/Athens:20200330T100000
DTEND;TZID=Europe/Athens:20200330T110000
DTSTAMP:20260425T163852
CREATED:20200225T105236Z
LAST-MODIFIED:20200225T105236Z
UID:3650-1585562400-1585566000@yellowyourspirit.com
SUMMARY:MORNING VINYASA ALL LEVELS
DESCRIPTION:All levels Vinyasa Flow \nInfinity Fitness is located next to the metro stop: ETHNIKI AMINA \nCome and Join!! \nFirst class is FREE! \n12€ drop-in \n60€ 8 classes \n70€ 10 classes \nSIGN UP IN LINK BELOW!
URL:https://yellowyourspirit.com/event/morning-vinyasa-all-levels-8/
LOCATION:infinity fitness\, Μεσογείων 237\, Ψυχικό.\, Greece
ORGANIZER;CN="Elli":MAILTO:elli@yellowyourspirit.com
END:VEVENT
BEGIN:VEVENT
DTSTART;TZID=Europe/Athens:20200418T113000
DTEND;TZID=Europe/Athens:20200418T123000
DTSTAMP:20260425T163852
CREATED:20200417T165221Z
LAST-MODIFIED:20200417T165221Z
UID:3686-1587209400-1587213000@yellowyourspirit.com
SUMMARY:Private Embassy Vinyasa
DESCRIPTION:American Embassy Ladies! \nVinyasa Time is 11:30 \nInvite anyone you wish 🙂
URL:https://yellowyourspirit.com/event/private-embassy-vinyasa-5/
LOCATION:Zoom\, The Internet
END:VEVENT
BEGIN:VEVENT
DTSTART;TZID=Europe/Athens:20200420T113000
DTEND;TZID=Europe/Athens:20200420T123000
DTSTAMP:20260425T163852
CREATED:20200417T164115Z
LAST-MODIFIED:20200417T194553Z
UID:3677-1587382200-1587385800@yellowyourspirit.com
SUMMARY:Private Embassy Vinyasa
DESCRIPTION:American Embassy Ladies! \nVinyasa Time is 11:30 \nInvite anyone you wish 🙂 \nClasses are donation based. Give what you can  \npaypal.me/yellowyourspirit \nLink below \npassword: lemonade
URL:https://yellowyourspirit.com/event/private-embassy-vinyasa/
LOCATION:Zoom\, The Internet
END:VEVENT
BEGIN:VEVENT
DTSTART;TZID=Europe/Athens:20200421T180000
DTEND;TZID=Europe/Athens:20200421T190000
DTSTAMP:20260425T163852
CREATED:20200417T181204Z
LAST-MODIFIED:20200417T194659Z
UID:3695-1587492000-1587495600@yellowyourspirit.com
SUMMARY:Evening Vinyasa Level 1 &2
DESCRIPTION:Vinyasa Level 1 & 2 on ZOOM! \nIf you have never done yoga before you are welcome to join of course! JUST REMEMBER to practice at YOUR OWN pace. Do what you can\, listen to instruction (because I will always talk it through!)\, and take breaks in child’s pose when your body is asking. OH! and breathe. 🙂 \nGET READY TO MOVE\, STRETCH\, AND BREATHE. \nClasses are donation based. Give what you can 🙂 \npaypal.me/yellowyourspirit \nZoom link below… \nPassword: lemonade
URL:https://yellowyourspirit.com/event/vinyasa-level-1-2/
LOCATION:Zoom\, The Internet
END:VEVENT
BEGIN:VEVENT
DTSTART;TZID=Europe/Athens:20200422T113000
DTEND;TZID=Europe/Athens:20200422T123000
DTSTAMP:20260425T163852
CREATED:20200417T164717Z
LAST-MODIFIED:20200417T194732Z
UID:3680-1587555000-1587558600@yellowyourspirit.com
SUMMARY:Private Embassy Vinyasa
DESCRIPTION:American Embassy Ladies! \nVinyasa Time is 11:30 \nInvite anyone you wish 🙂 \nClasses are donation based. Give what you can  \npaypal.me/yellowyourspirit \nZoom link below… \nPassword: lemonade
URL:https://yellowyourspirit.com/event/private-embassy-vinyasa-2/
LOCATION:Zoom\, The Internet
END:VEVENT
BEGIN:VEVENT
DTSTART;TZID=Europe/Athens:20200422T130000
DTEND;TZID=Europe/Athens:20200422T140000
DTSTAMP:20260425T163852
CREATED:20200417T191502Z
LAST-MODIFIED:20200417T194833Z
UID:3711-1587560400-1587564000@yellowyourspirit.com
SUMMARY:Vinyasa Flow Level 1 & 2
DESCRIPTION:Vinyasa Level 1 & 2 on ZOOM! \nIf you have never done yoga before you are welcome to join of course! JUST REMEMBER to practice at YOUR OWN pace. Do what you can\, listen to instruction (because I will always talk it through!)\, and take breaks in child’s pose when your body is asking. OH! and breathe.  \nGET READY TO MOVE\, STRETCH\, AND BREATHE. \nClasses are donation based. Give what you can  \npaypal.me/yellowyourspirit \n  \nZoom link below… \nPassword: lemonade
URL:https://yellowyourspirit.com/event/vinyasa-flow-level-1-2/
LOCATION:Zoom\, The Internet
END:VEVENT
BEGIN:VEVENT
DTSTART;TZID=Europe/Athens:20200423T190000
DTEND;TZID=Europe/Athens:20200423T200000
DTSTAMP:20260425T163852
CREATED:20200417T185331Z
LAST-MODIFIED:20200417T194907Z
UID:3701-1587668400-1587672000@yellowyourspirit.com
SUMMARY:Evening Slow Flow Vinyasa
DESCRIPTION:A juicy Evening Slow Flow on ZOOM! All levels are welcome.  \nGET READY TO MOVE SLOWLY\, STRETCH\, BREATHE. and EASE into the evening. \nClasses are donation based. Give what you can 🙂 \npaypal.me/yellowyourspirit \n  \nLinke Below… \nPassword: lemonade
URL:https://yellowyourspirit.com/event/evening-slow-flow-vinyasa/
LOCATION:Zoom\, The Internet
END:VEVENT
BEGIN:VEVENT
DTSTART;TZID=Europe/Athens:20200424T113000
DTEND;TZID=Europe/Athens:20200424T123000
DTSTAMP:20260425T163852
CREATED:20200417T190619Z
LAST-MODIFIED:20200417T195051Z
UID:3709-1587727800-1587731400@yellowyourspirit.com
SUMMARY:Power Vinyasa
DESCRIPTION:A faster\, stronger flow with added core attention. You may act like you don’t want it\, but you do. Perfect for a Friday so you can go into the weekend feeling strong and free to enjoy yourself. Yay! \n  \nClasses are donation based. Give what you can 🙂 \npaypal.me/yellowyourspirit \n  \nLinke Below… \nPassword: lemonade
URL:https://yellowyourspirit.com/event/power-vinyasa/
LOCATION:Zoom\, The Internet
END:VEVENT
BEGIN:VEVENT
DTSTART;TZID=Europe/Athens:20200425T113000
DTEND;TZID=Europe/Athens:20200425T123000
DTSTAMP:20260425T163852
CREATED:20200417T165315Z
LAST-MODIFIED:20200417T194508Z
UID:3688-1587814200-1587817800@yellowyourspirit.com
SUMMARY:Private Embassy Vinyasa
DESCRIPTION:American Embassy Ladies! \nVinyasa Time is 11:30 \nInvite anyone you wish 🙂 \nClasses are donation based. Give what you can  \npaypal.me/yellowyourspirit \nZoom Link below… \nPassword: lemonade
URL:https://yellowyourspirit.com/event/private-embassy-yoga/
LOCATION:Zoom\, The Internet
END:VEVENT
END:VCALENDAR