BEGIN:VCALENDAR
VERSION:2.0
PRODID:-//Yellow Your Spirit - ECPv6.15.20//NONSGML v1.0//EN
CALSCALE:GREGORIAN
METHOD:PUBLISH
X-ORIGINAL-URL:https://yellowyourspirit.com
X-WR-CALDESC:Events for Yellow Your Spirit
REFRESH-INTERVAL;VALUE=DURATION:PT1H
X-Robots-Tag:noindex
X-PUBLISHED-TTL:PT1H
BEGIN:VTIMEZONE
TZID:Europe/Athens
BEGIN:DAYLIGHT
TZOFFSETFROM:+0200
TZOFFSETTO:+0300
TZNAME:EEST
DTSTART:20190331T010000
END:DAYLIGHT
BEGIN:STANDARD
TZOFFSETFROM:+0300
TZOFFSETTO:+0200
TZNAME:EET
DTSTART:20191027T010000
END:STANDARD
BEGIN:DAYLIGHT
TZOFFSETFROM:+0200
TZOFFSETTO:+0300
TZNAME:EEST
DTSTART:20200329T010000
END:DAYLIGHT
BEGIN:STANDARD
TZOFFSETFROM:+0300
TZOFFSETTO:+0200
TZNAME:EET
DTSTART:20201025T010000
END:STANDARD
BEGIN:DAYLIGHT
TZOFFSETFROM:+0200
TZOFFSETTO:+0300
TZNAME:EEST
DTSTART:20210328T010000
END:DAYLIGHT
BEGIN:STANDARD
TZOFFSETFROM:+0300
TZOFFSETTO:+0200
TZNAME:EET
DTSTART:20211031T010000
END:STANDARD
END:VTIMEZONE
BEGIN:VEVENT
DTSTART;TZID=Europe/Athens:20200501T113000
DTEND;TZID=Europe/Athens:20200501T123000
DTSTAMP:20260425T154301
CREATED:20200430T090057Z
LAST-MODIFIED:20200430T090123Z
UID:3751-1588332600-1588336200@yellowyourspirit.com
SUMMARY:Friday Power Vinyasa Flow
DESCRIPTION:A faster\, stronger flow with added core attention. You may act like you don’t want it\, but you do. Perfect for a Friday so you can go into the weekend feeling strong and free to enjoy yourself. Yay! \n  \nClasses are donation based. Give what you can  \npaypal.me/yellowyourspirit \n  \nLinke Below… \nPassword: lemonade
URL:https://yellowyourspirit.com/event/friday-power-vinyasa-flow/
LOCATION:Zoom\, The Internet
END:VEVENT
BEGIN:VEVENT
DTSTART;TZID=Europe/Athens:20200502T113000
DTEND;TZID=Europe/Athens:20200502T123000
DTSTAMP:20260425T154301
CREATED:20200502T062001Z
LAST-MODIFIED:20200502T062001Z
UID:3766-1588419000-1588422600@yellowyourspirit.com
SUMMARY:Private Embassy Saturday Class
DESCRIPTION:American Embassy Ladies! \nVinyasa Time is 11:30 \nInvite anyone you wish  \nClasses are donation based. Give what you can  \npaypal.me/yellowyourspirit \nZoom Link below… \nPassword: lemonade
URL:https://yellowyourspirit.com/event/private-embassy-saturday-class/
LOCATION:Zoom\, The Internet
END:VEVENT
BEGIN:VEVENT
DTSTART;TZID=Europe/Athens:20200504T113000
DTEND;TZID=Europe/Athens:20200504T123000
DTSTAMP:20260425T154301
CREATED:20200417T165412Z
LAST-MODIFIED:20200417T195250Z
UID:3690-1588591800-1588595400@yellowyourspirit.com
SUMMARY:Private Embassy Yoga
DESCRIPTION:American Embassy Ladies! \nVinyasa Time is 11:30 \nInvite anyone you wish 🙂 \nClasses are donation based. Give what you can  \npaypal.me/yellowyourspirit \nZoom link below… \npassword: lemonade
URL:https://yellowyourspirit.com/event/private-embassy-yoga-2/
LOCATION:Zoom\, The Internet
END:VEVENT
BEGIN:VEVENT
DTSTART;TZID=Europe/Athens:20200505T180000
DTEND;TZID=Europe/Athens:20200505T190000
DTSTAMP:20260425T154301
CREATED:20200430T090750Z
LAST-MODIFIED:20200430T090750Z
UID:3757-1588701600-1588705200@yellowyourspirit.com
SUMMARY:Evening Vinyasa Level 1 & 2
DESCRIPTION:Vinyasa Level 1 & 2 on ZOOM! \nIf you have never done yoga before you are welcome to join of course! JUST REMEMBER to practice at YOUR OWN pace. Do what you can\, listen to instruction (because I will always talk it through!)\, and take breaks in child’s pose when your body is asking. OH! and breathe.  \nGET READY TO MOVE\, STRETCH\, AND BREATHE. \nClasses are donation based. Give what you can  \npaypal.me/yellowyourspirit \nZoom link below… \nPassword: lemonade
URL:https://yellowyourspirit.com/event/evening-vinyasa-level-1-2-2/
LOCATION:Zoom\, The Internet
END:VEVENT
BEGIN:VEVENT
DTSTART;TZID=Europe/Athens:20200506T113000
DTEND;TZID=Europe/Athens:20200506T123000
DTSTAMP:20260425T154301
CREATED:20200417T165507Z
LAST-MODIFIED:20200417T193234Z
UID:3692-1588764600-1588768200@yellowyourspirit.com
SUMMARY:Private Embassy Vinyasa
DESCRIPTION:American Embassy Ladies! \nVinyasa Time is 11:30 \nInvite anyone you wish 🙂 \nZoom Link below… \nPassword: lemonade
URL:https://yellowyourspirit.com/event/private-embassy-vinyasa-6/
LOCATION:Zoom\, The Internet
END:VEVENT
BEGIN:VEVENT
DTSTART;TZID=Europe/Athens:20200506T130000
DTEND;TZID=Europe/Athens:20200506T140000
DTSTAMP:20260425T154301
CREATED:20200430T090933Z
LAST-MODIFIED:20200430T090933Z
UID:3759-1588770000-1588773600@yellowyourspirit.com
SUMMARY:Afternoon Vinyasa Flow
DESCRIPTION:Vinyasa Level 1 & 2 on ZOOM! \nIf you have never done yoga before you are welcome to join of course! JUST REMEMBER to practice at YOUR OWN pace. Do what you can\, listen to instruction (because I will always talk it through!)\, and take breaks in child’s pose when your body is asking. OH! and breathe.  \nGET READY TO MOVE\, STRETCH\, AND BREATHE. \nClasses are donation based. Give what you can  \npaypal.me/yellowyourspirit \n  \nZoom link below… \nPassword: lemonade
URL:https://yellowyourspirit.com/event/afternoon-vinyasa-flow-2/
LOCATION:Zoom\, The Internet
ORGANIZER;CN="Elli":MAILTO:elli@yellowyourspirit.com
END:VEVENT
BEGIN:VEVENT
DTSTART;TZID=Europe/Athens:20200507T103000
DTEND;TZID=Europe/Athens:20200507T113000
DTSTAMP:20260425T154301
CREATED:20200430T091431Z
LAST-MODIFIED:20200430T091431Z
UID:3763-1588847400-1588851000@yellowyourspirit.com
SUMMARY:Infinity Fitness Vinyasa
DESCRIPTION:Through my gym that I teach at\, we are offering online sessions! \nJoin for a nice smooth Vinyasa Flow Class on Thursday mornings at 10:30-11:30 \n  \nsend me a message on how to join!
URL:https://yellowyourspirit.com/event/infinity-fitness-vinyasa/
LOCATION:Zoom\, The Internet
ORGANIZER;CN="Elli":MAILTO:elli@yellowyourspirit.com
END:VEVENT
BEGIN:VEVENT
DTSTART;TZID=Europe/Athens:20200507T190000
DTEND;TZID=Europe/Athens:20200507T200000
DTSTAMP:20260425T154301
CREATED:20200430T091055Z
LAST-MODIFIED:20200430T091055Z
UID:3761-1588878000-1588881600@yellowyourspirit.com
SUMMARY:Evening Vinyasa Slow Flow
DESCRIPTION:A juicy Evening Slow Flow on ZOOM! All levels are welcome.  \nGET READY TO MOVE SLOWLY\, STRETCH\, BREATHE. and EASE into the evening. \nClasses are donation based. Give what you can  \npaypal.me/yellowyourspirit \n  \nZoom Link below… \nPassword: lemonade
URL:https://yellowyourspirit.com/event/evening-vinyasa-slow-flow/
LOCATION:Zoom\, The Internet
ORGANIZER;CN="Elli":MAILTO:elli@yellowyourspirit.com
END:VEVENT
BEGIN:VEVENT
DTSTART;TZID=Europe/Athens:20200508T080000
DTEND;TZID=Europe/Athens:20200508T170000
DTSTAMP:20260425T154301
CREATED:20200508T163955Z
LAST-MODIFIED:20200508T163955Z
UID:3809-1588924800-1588957200@yellowyourspirit.com
SUMMARY:Afternoon Vinyasa Flow
DESCRIPTION:Vinyasa Level 1 & 2 on ZOOM! \nIf you have never done yoga before you are welcome to join of course! JUST REMEMBER to practice at YOUR OWN pace. Do what you can\, listen to instruction (because I will always talk it through!)\, and take breaks in child’s pose when your body is asking. OH! and breathe.  \nGET READY TO MOVE\, STRETCH\, AND BREATHE. \nClasses are donation based. Give what you can  \npaypal.me/yellowyourspirit \n  \nZoom link below… \nPassword: lemonade
URL:https://yellowyourspirit.com/event/afternoon-vinyasa-flow-3/
LOCATION:Zoom\, The Internet
ORGANIZER;CN="Elli":MAILTO:elli@yellowyourspirit.com
END:VEVENT
BEGIN:VEVENT
DTSTART;TZID=Europe/Athens:20200508T113000
DTEND;TZID=Europe/Athens:20200508T123000
DTSTAMP:20260425T154301
CREATED:20200430T090617Z
LAST-MODIFIED:20200430T090617Z
UID:3755-1588937400-1588941000@yellowyourspirit.com
SUMMARY:Friday Power Vinyasa Flow
DESCRIPTION:A faster\, stronger flow with added core attention. You may act like you don’t want it\, but you do. Perfect for a Friday so you can go into the weekend feeling strong and free to enjoy yourself. Yay! \n  \nClasses are donation based. Give what you can  \npaypal.me/yellowyourspirit \n  \nLinke Below… \nPassword: lemonade
URL:https://yellowyourspirit.com/event/friday-power-vinyasa-flow-2/
LOCATION:Zoom\, The Internet
ORGANIZER;CN="Elli":MAILTO:elli@yellowyourspirit.com
END:VEVENT
BEGIN:VEVENT
DTSTART;TZID=Europe/Athens:20200509T113000
DTEND;TZID=Europe/Athens:20200509T123000
DTSTAMP:20260425T154301
CREATED:20200508T162157Z
LAST-MODIFIED:20200508T162157Z
UID:3793-1589023800-1589027400@yellowyourspirit.com
SUMMARY:Private Embassy Saturday Class
DESCRIPTION:American Embassy Ladies! \nVinyasa Time is 11:30 \nInvite anyone you wish  \nClasses are donation based. Give what you can  \npaypal.me/yellowyourspirit \nZoom Link below… \nPassword: lemonade
URL:https://yellowyourspirit.com/event/private-embassy-saturday-class-2/
LOCATION:Zoom\, The Internet
ORGANIZER;CN="Elli":MAILTO:elli@yellowyourspirit.com
END:VEVENT
BEGIN:VEVENT
DTSTART;TZID=Europe/Athens:20200511T113000
DTEND;TZID=Europe/Athens:20200511T123000
DTSTAMP:20260425T154301
CREATED:20200508T162342Z
LAST-MODIFIED:20200508T162342Z
UID:3795-1589196600-1589200200@yellowyourspirit.com
SUMMARY:Private Embassy Class
DESCRIPTION:American Embassy Ladies! \nVinyasa Time is 11:30 \nInvite anyone you wish  \nClasses are donation based. Give what you can  \npaypal.me/yellowyourspirit \nZoom link below… \npassword: lemonade
URL:https://yellowyourspirit.com/event/private-embassy-class/
LOCATION:Zoom\, The Internet
ORGANIZER;CN="Elli":MAILTO:elli@yellowyourspirit.com
END:VEVENT
BEGIN:VEVENT
DTSTART;TZID=Europe/Athens:20200512T180000
DTEND;TZID=Europe/Athens:20200512T190000
DTSTAMP:20260425T154301
CREATED:20200508T163420Z
LAST-MODIFIED:20200508T164255Z
UID:3803-1589306400-1589310000@yellowyourspirit.com
SUMMARY:Vinyasa Level 1 & 2
DESCRIPTION:Vinyasa Level 1 & 2 on ZOOM! \nIf you have never done yoga before you are welcome to join of course! JUST REMEMBER to practice at YOUR OWN pace. Do what you can\, listen to instruction (because I will always talk it through!)\, and take breaks in child’s pose when your body is asking. OH! and breathe.  \nGET READY TO MOVE\, STRETCH\, AND BREATHE. \nClasses are donation based. Give what you can  \npaypal.me/yellowyourspirit \nZoom link below… \nPassword: lemonade
URL:https://yellowyourspirit.com/event/zoom-vinyasa-level-1-2/
LOCATION:Zoom\, The Internet
ORGANIZER;CN="Elli":MAILTO:elli@yellowyourspirit.com
END:VEVENT
BEGIN:VEVENT
DTSTART;TZID=Europe/Athens:20200513T113000
DTEND;TZID=Europe/Athens:20200513T123000
DTSTAMP:20260425T154301
CREATED:20200508T162533Z
LAST-MODIFIED:20200508T162533Z
UID:3797-1589369400-1589373000@yellowyourspirit.com
SUMMARY:Private Embassy Class
DESCRIPTION:American Embassy Ladies! \nVinyasa Time is 11:30 \nInvite anyone you wish  \nClasses are donation based. Give what you can  \npaypal.me/yellowyourspirit \nZoom link below… \npassword: lemonade
URL:https://yellowyourspirit.com/event/private-embassy-class-2/
LOCATION:Zoom\, The Internet
END:VEVENT
BEGIN:VEVENT
DTSTART;TZID=Europe/Athens:20200513T130000
DTEND;TZID=Europe/Athens:20200513T140000
DTSTAMP:20260425T154301
CREATED:20200509T070000Z
LAST-MODIFIED:20200509T070034Z
UID:3817-1589374800-1589378400@yellowyourspirit.com
SUMMARY:Afternoon Vinyasa Flow
DESCRIPTION:Vinyasa Level 1 & 2 on ZOOM! \nIf you have never done yoga before you are welcome to join of course! JUST REMEMBER to practice at YOUR OWN pace. Do what you can\, listen to instruction (because I will always talk it through!)\, and take breaks in child’s pose when your body is asking. OH! and breathe.  \nGET READY TO MOVE\, STRETCH\, AND BREATHE. \nClasses are donation based. Give what you can  \npaypal.me/yellowyourspirit \n  \nZoom link below… \nPassword: lemonade
URL:https://yellowyourspirit.com/event/afternoon-vinyasa/
LOCATION:Zoom\, The Internet
ORGANIZER;CN="Elli":MAILTO:elli@yellowyourspirit.com
END:VEVENT
BEGIN:VEVENT
DTSTART;TZID=Europe/Athens:20200514T103000
DTEND;TZID=Europe/Athens:20200514T113000
DTSTAMP:20260425T154301
CREATED:20200509T070146Z
LAST-MODIFIED:20200509T070207Z
UID:3820-1589452200-1589455800@yellowyourspirit.com
SUMMARY:Infinity Fitness Vinyasa
DESCRIPTION:Through my gym that I teach at\, we are offering online sessions! \nJoin for a nice smooth Vinyasa Flow Class on Thursday mornings at 10:30-11:30 \n  \nsend me a message on how to join!
URL:https://yellowyourspirit.com/event/infinity-fitness-yoga/
LOCATION:Zoom\, The Internet
ORGANIZER;CN="Elli":MAILTO:elli@yellowyourspirit.com
END:VEVENT
BEGIN:VEVENT
DTSTART;TZID=Europe/Athens:20200514T190000
DTEND;TZID=Europe/Athens:20200514T200000
DTSTAMP:20260425T154301
CREATED:20200508T164444Z
LAST-MODIFIED:20200509T065739Z
UID:3814-1589482800-1589486400@yellowyourspirit.com
SUMMARY:Evening Vinyasa Slow Flow
DESCRIPTION:A juicy Evening Slow Flow on ZOOM! All levels are welcome.  \nGET READY TO MOVE SLOWLY\, STRETCH\, BREATHE. and EASE into the evening. \nClasses are donation based. Give what you can  \npaypal.me/yellowyourspirit \n  \nZoom Link below… \nPassword: lemonade
URL:https://yellowyourspirit.com/event/evening-vinyasa-slow-flow-2/
LOCATION:Zoom\, The Internet
ORGANIZER;CN="Elli":MAILTO:elli@yellowyourspirit.com
END:VEVENT
BEGIN:VEVENT
DTSTART;TZID=Europe/Athens:20200515T113000
DTEND;TZID=Europe/Athens:20200515T123000
DTSTAMP:20260425T154301
CREATED:20200509T070351Z
LAST-MODIFIED:20200509T070351Z
UID:3823-1589542200-1589545800@yellowyourspirit.com
SUMMARY:Friday Power Vinyasa Flow
DESCRIPTION:A faster\, stronger flow with added core attention. You may act like you don’t want it\, but you do. Perfect for a Friday so you can go into the weekend feeling strong and free to enjoy yourself. Yay! \n  \nClasses are donation based. Give what you can  \npaypal.me/yellowyourspirit \n  \nLinke Below… \nPassword: lemonade
URL:https://yellowyourspirit.com/event/friday-power-vinyasa-flow-3/
LOCATION:Zoom\, The Internet
ORGANIZER;CN="Elli":MAILTO:elli@yellowyourspirit.com
END:VEVENT
BEGIN:VEVENT
DTSTART;TZID=Europe/Athens:20200516T113000
DTEND;TZID=Europe/Athens:20200516T123000
DTSTAMP:20260425T154301
CREATED:20200508T162836Z
LAST-MODIFIED:20200508T163113Z
UID:3799-1589628600-1589632200@yellowyourspirit.com
SUMMARY:Private Embassy Vinyasa
DESCRIPTION:American Embassy Ladies! \nVinyasa Time is 11:30 \nInvite anyone you wish  \nClasses are donation based. Give what you can  \npaypal.me/yellowyourspirit \nZoom link below… \npassword: lemonade
URL:https://yellowyourspirit.com/event/private-vinyasa-saturday-class/
LOCATION:Zoom\, The Internet
ORGANIZER;CN="Elli":MAILTO:elli@yellowyourspirit.com
END:VEVENT
BEGIN:VEVENT
DTSTART;TZID=Europe/Athens:20200518T113000
DTEND;TZID=Europe/Athens:20200518T123000
DTSTAMP:20260425T154301
CREATED:20200509T070847Z
LAST-MODIFIED:20200509T070847Z
UID:3829-1589801400-1589805000@yellowyourspirit.com
SUMMARY:Private Embassy Class
DESCRIPTION:American Embassy Ladies! \nVinyasa Time is 11:30 \nInvite anyone you wish  \nClasses are donation based. Give what you can  \npaypal.me/yellowyourspirit \nZoom link below… \npassword: lemonade
URL:https://yellowyourspirit.com/event/private-embassy-class-3/
LOCATION:Zoom\, The Internet
ORGANIZER;CN="Elli":MAILTO:elli@yellowyourspirit.com
END:VEVENT
BEGIN:VEVENT
DTSTART;TZID=Europe/Athens:20200519T180000
DTEND;TZID=Europe/Athens:20200519T190000
DTSTAMP:20260425T154301
CREATED:20200508T163642Z
LAST-MODIFIED:20200508T163642Z
UID:3807-1589911200-1589914800@yellowyourspirit.com
SUMMARY:Vinyasa Level 1 & 2
DESCRIPTION:Vinyasa Level 1 & 2 on ZOOM! \nIf you have never done yoga before you are welcome to join of course! JUST REMEMBER to practice at YOUR OWN pace. Do what you can\, listen to instruction (because I will always talk it through!)\, and take breaks in child’s pose when your body is asking. OH! and breathe.  \nGET READY TO MOVE\, STRETCH\, AND BREATHE. \nClasses are donation based. Give what you can  \npaypal.me/yellowyourspirit \nZoom link below… \nPassword: lemonade
URL:https://yellowyourspirit.com/event/vinyasa-level-1-2-2/
LOCATION:Zoom\, The Internet
ORGANIZER;CN="Elli":MAILTO:elli@yellowyourspirit.com
END:VEVENT
BEGIN:VEVENT
DTSTART;TZID=Europe/Athens:20200520T113000
DTEND;TZID=Europe/Athens:20200520T123000
DTSTAMP:20260425T154301
CREATED:20200509T071023Z
LAST-MODIFIED:20200509T071023Z
UID:3831-1589974200-1589977800@yellowyourspirit.com
SUMMARY:Private Embassy Class
DESCRIPTION:American Embassy Ladies! \nVinyasa Time is 11:30 \nInvite anyone you wish  \nClasses are donation based. Give what you can  \npaypal.me/yellowyourspirit \nZoom link below… \npassword: lemonade
URL:https://yellowyourspirit.com/event/private-embassy-class-4/
LOCATION:Zoom\, The Internet
ORGANIZER;CN="Elli":MAILTO:elli@yellowyourspirit.com
END:VEVENT
BEGIN:VEVENT
DTSTART;TZID=Europe/Athens:20200520T130000
DTEND;TZID=Europe/Athens:20200520T140000
DTSTAMP:20260425T154301
CREATED:20200508T164156Z
LAST-MODIFIED:20200508T164156Z
UID:3811-1589979600-1589983200@yellowyourspirit.com
SUMMARY:Afternoon Vinyasa Flow
DESCRIPTION:Vinyasa Level 1 & 2 on ZOOM! \nIf you have never done yoga before you are welcome to join of course! JUST REMEMBER to practice at YOUR OWN pace. Do what you can\, listen to instruction (because I will always talk it through!)\, and take breaks in child’s pose when your body is asking. OH! and breathe.  \nGET READY TO MOVE\, STRETCH\, AND BREATHE. \nClasses are donation based. Give what you can  \npaypal.me/yellowyourspirit \n  \nZoom link below… \nPassword: lemonade
URL:https://yellowyourspirit.com/event/afternoon-vinyasa-flow-4/
LOCATION:Zoom\, The Internet
ORGANIZER;CN="Elli":MAILTO:elli@yellowyourspirit.com
END:VEVENT
BEGIN:VEVENT
DTSTART;TZID=Europe/Athens:20200521T103000
DTEND;TZID=Europe/Athens:20200521T113000
DTSTAMP:20260425T154301
CREATED:20200509T071146Z
LAST-MODIFIED:20200509T071146Z
UID:3833-1590057000-1590060600@yellowyourspirit.com
SUMMARY:Infinity Fitness Vinyasa
DESCRIPTION:Through my gym that I teach at\, we are offering online sessions! \nJoin for a nice smooth Vinyasa Flow Class on Thursday mornings at 10:30-11:30 \n  \nsend me a message on how to join!
URL:https://yellowyourspirit.com/event/infinity-fitness-vinyasa-2/
LOCATION:Zoom\, The Internet
ORGANIZER;CN="Elli":MAILTO:elli@yellowyourspirit.com
END:VEVENT
BEGIN:VEVENT
DTSTART;TZID=Europe/Athens:20200521T190000
DTEND;TZID=Europe/Athens:20200521T200000
DTSTAMP:20260425T154301
CREATED:20200509T070647Z
LAST-MODIFIED:20200509T070647Z
UID:3827-1590087600-1590091200@yellowyourspirit.com
SUMMARY:Evening Vinyasa Slow Flow
DESCRIPTION:A juicy Evening Slow Flow on ZOOM! All levels are welcome.  \nGET READY TO MOVE SLOWLY\, STRETCH\, BREATHE. and EASE into the evening. \nClasses are donation based. Give what you can  \npaypal.me/yellowyourspirit \n  \nZoom Link below… \nPassword: lemonade
URL:https://yellowyourspirit.com/event/evening-vinyasa-slow-flow-3/
LOCATION:Zoom\, The Internet
ORGANIZER;CN="Elli":MAILTO:elli@yellowyourspirit.com
END:VEVENT
BEGIN:VEVENT
DTSTART;TZID=Europe/Athens:20200522T113000
DTEND;TZID=Europe/Athens:20200522T123000
DTSTAMP:20260425T154301
CREATED:20200509T070517Z
LAST-MODIFIED:20200509T070517Z
UID:3825-1590147000-1590150600@yellowyourspirit.com
SUMMARY:Friday Power Vinyasa Flow
DESCRIPTION:A faster\, stronger flow with added core attention. You may act like you don’t want it\, but you do. Perfect for a Friday so you can go into the weekend feeling strong and free to enjoy yourself. Yay! \n  \nClasses are donation based. Give what you can  \npaypal.me/yellowyourspirit \n  \nLinke Below… \nPassword: lemonade
URL:https://yellowyourspirit.com/event/friday-power-vinyasa-flow-4/
LOCATION:Zoom\, The Internet
ORGANIZER;CN="Elli":MAILTO:elli@yellowyourspirit.com
END:VEVENT
BEGIN:VEVENT
DTSTART;TZID=Europe/Athens:20200706T100000
DTEND;TZID=Europe/Athens:20200706T110000
DTSTAMP:20260425T154301
CREATED:20200706T105755Z
LAST-MODIFIED:20200706T105755Z
UID:3842-1594029600-1594033200@yellowyourspirit.com
SUMMARY:Vinyasa Yoga
DESCRIPTION:Vinyasa Yoga Flow \nFlow one breath to one movement in a meditative and creative practice. \nWe will strengthen\, stretch\, and breathe together with tons of guidance from me. 🙂 \nYou will definitely feel warm so bring some water and a little towel! \nAll levels are welcome. If you are a beginner\, please send me a message! \n12 Euro for a drop-in or great monthly packages! \nYou don’t need to be a member of the gym 🙂
URL:https://yellowyourspirit.com/event/vinyasa-yoga/
LOCATION:infinity fitness\, Μεσογείων 237\, Ψυχικό.\, Greece
ORGANIZER;CN="Elli":MAILTO:elli@yellowyourspirit.com
END:VEVENT
BEGIN:VEVENT
DTSTART;TZID=Europe/Athens:20200709T193000
DTEND;TZID=Europe/Athens:20200709T203000
DTSTAMP:20260425T154301
CREATED:20200706T110039Z
LAST-MODIFIED:20200706T110905Z
UID:3848-1594323000-1594326600@yellowyourspirit.com
SUMMARY:Evening Vinyasa Yoga
DESCRIPTION:Vinyasa Yoga Flow \nFlow one breath to one movement in a meditative and creative practice. \nWe will strengthen\, stretch\, and breathe together with tons of guidance from me. 🙂 \nYou will definitely feel warm so bring some water and a little towel! \nAll levels are welcome. If you are a beginner\, please send me a message! \n12 Euro for a drop-in or great monthly packages! \nYou don’t need to be a member of the gym 🙂
URL:https://yellowyourspirit.com/event/vinyasa-yoga-4/
LOCATION:infinity fitness\, Μεσογείων 237\, Ψυχικό.\, Greece
ORGANIZER;CN="Elli":MAILTO:elli@yellowyourspirit.com
END:VEVENT
BEGIN:VEVENT
DTSTART;TZID=Europe/Athens:20200710T193000
DTEND;TZID=Europe/Athens:20200710T203000
DTSTAMP:20260425T154301
CREATED:20200706T111420Z
LAST-MODIFIED:20200706T111420Z
UID:3867-1594409400-1594413000@yellowyourspirit.com
SUMMARY:Evening Power Vinyasa
DESCRIPTION:Power Vinyasa Yoga Flow \nFlow one breath to one movement in a meditative and creative practice… \nAt the same time\, it will be more POWERFUL than regular Vinyasa Flow. \nWe will move faster and we will work to strengthen our core\, legs\, arms\, back\, and shoulders even more so than the other classes! (think more planks\, side planks\, lunges\, etc ) \nYou will sweat but it will be soooooo fun!! \n  \nAll levels are welcome. If you are a beginner\, please send me a message! \n12 Euro for a drop-in or great monthly packages! \nYou don’t need to be a member of the gym 🙂
URL:https://yellowyourspirit.com/event/evening-power-vinyasa/
LOCATION:infinity fitness\, Μεσογείων 237\, Ψυχικό.\, Greece
ORGANIZER;CN="Elli":MAILTO:elli@yellowyourspirit.com
END:VEVENT
BEGIN:VEVENT
DTSTART;TZID=Europe/Athens:20200711T100000
DTEND;TZID=Europe/Athens:20200711T110000
DTSTAMP:20260425T154301
CREATED:20200706T110536Z
LAST-MODIFIED:20200706T110536Z
UID:3856-1594461600-1594465200@yellowyourspirit.com
SUMMARY:Vinyasa Yoga
DESCRIPTION:Vinyasa Yoga Flow \nFlow one breath to one movement in a meditative and creative practice. \nWe will strengthen\, stretch\, and breathe together with tons of guidance from me. 🙂 \nYou will definitely feel warm so bring some water and a little towel! \nAll levels are welcome. If you are a beginner\, please send me a message! \n12 Euro for a drop-in or great monthly packages! \nYou don’t need to be a member of the gym 🙂
URL:https://yellowyourspirit.com/event/vinyasa-yoga-7/
LOCATION:infinity fitness\, Μεσογείων 237\, Ψυχικό.\, Greece
ORGANIZER;CN="Elli":MAILTO:elli@yellowyourspirit.com
END:VEVENT
END:VCALENDAR