BEGIN:VCALENDAR
VERSION:2.0
PRODID:-//Yellow Your Spirit - ECPv6.15.20//NONSGML v1.0//EN
CALSCALE:GREGORIAN
METHOD:PUBLISH
X-WR-CALNAME:Yellow Your Spirit
X-ORIGINAL-URL:https://yellowyourspirit.com
X-WR-CALDESC:Events for Yellow Your Spirit
REFRESH-INTERVAL;VALUE=DURATION:PT1H
X-Robots-Tag:noindex
X-PUBLISHED-TTL:PT1H
BEGIN:VTIMEZONE
TZID:Europe/Athens
BEGIN:DAYLIGHT
TZOFFSETFROM:+0200
TZOFFSETTO:+0300
TZNAME:EEST
DTSTART:20180325T010000
END:DAYLIGHT
BEGIN:STANDARD
TZOFFSETFROM:+0300
TZOFFSETTO:+0200
TZNAME:EET
DTSTART:20181028T010000
END:STANDARD
BEGIN:DAYLIGHT
TZOFFSETFROM:+0200
TZOFFSETTO:+0300
TZNAME:EEST
DTSTART:20190331T010000
END:DAYLIGHT
BEGIN:STANDARD
TZOFFSETFROM:+0300
TZOFFSETTO:+0200
TZNAME:EET
DTSTART:20191027T010000
END:STANDARD
BEGIN:DAYLIGHT
TZOFFSETFROM:+0200
TZOFFSETTO:+0300
TZNAME:EEST
DTSTART:20200329T010000
END:DAYLIGHT
BEGIN:STANDARD
TZOFFSETFROM:+0300
TZOFFSETTO:+0200
TZNAME:EET
DTSTART:20201025T010000
END:STANDARD
END:VTIMEZONE
BEGIN:VEVENT
DTSTART;TZID=Europe/Athens:20190619T190000
DTEND;TZID=Europe/Athens:20190619T200000
DTSTAMP:20260424T183328
CREATED:20190616T170257Z
LAST-MODIFIED:20190616T170257Z
UID:3407-1560970800-1560974400@yellowyourspirit.com
SUMMARY:Vinyasa Yoga on the Acropolis Roof Deck
DESCRIPTION:Every Wednesday from 19:00-20:00 \nVinyasa Yoga – All Levels \nDonation Based – pay what you can afford 🙂 \nClasses taught in English but I speak Greek too! \n  \nHosted by Lynn Roulo on her beautiful roof deck and you can sign up online here: \nSunset Yoga on the Acropolis Roof Deck
URL:https://yellowyourspirit.com/event/vinyasa-yoga-on-the-acropolis-roof-deck/
ORGANIZER;CN="Elli":MAILTO:elli@yellowyourspirit.com
END:VEVENT
BEGIN:VEVENT
DTSTART;TZID=Europe/Athens:20190626T190000
DTEND;TZID=Europe/Athens:20190626T200000
DTSTAMP:20260424T183328
CREATED:20190616T170522Z
LAST-MODIFIED:20190616T170522Z
UID:3410-1561575600-1561579200@yellowyourspirit.com
SUMMARY:Vinyasa Yoga on the Acropolis Roof Deck
DESCRIPTION:Every Wednesday from 19:00-20:00 \nVinyasa Yoga – All Levels \nDonation Based – pay what you can afford 🙂 \nClasses taught in English but I speak Greek too! \n  \nHosted by Lynn Roulo on her beautiful roof deck and you can sign up online here: \n  \nSunset Yoga on the Acropolis Roof Deck
URL:https://yellowyourspirit.com/event/vinyasa-yoga-on-the-acropolis-roof-deck-2/
ORGANIZER;CN="Elli":MAILTO:elli@yellowyourspirit.com
END:VEVENT
END:VCALENDAR