BEGIN:VCALENDAR
VERSION:2.0
PRODID:-//Yellow Your Spirit - ECPv6.15.20//NONSGML v1.0//EN
CALSCALE:GREGORIAN
METHOD:PUBLISH
X-WR-CALNAME:Yellow Your Spirit
X-ORIGINAL-URL:https://yellowyourspirit.com
X-WR-CALDESC:Events for Yellow Your Spirit
REFRESH-INTERVAL;VALUE=DURATION:PT1H
X-Robots-Tag:noindex
X-PUBLISHED-TTL:PT1H
BEGIN:VTIMEZONE
TZID:Europe/Athens
BEGIN:DAYLIGHT
TZOFFSETFROM:+0200
TZOFFSETTO:+0300
TZNAME:EEST
DTSTART:20180325T010000
END:DAYLIGHT
BEGIN:STANDARD
TZOFFSETFROM:+0300
TZOFFSETTO:+0200
TZNAME:EET
DTSTART:20181028T010000
END:STANDARD
BEGIN:DAYLIGHT
TZOFFSETFROM:+0200
TZOFFSETTO:+0300
TZNAME:EEST
DTSTART:20190331T010000
END:DAYLIGHT
BEGIN:STANDARD
TZOFFSETFROM:+0300
TZOFFSETTO:+0200
TZNAME:EET
DTSTART:20191027T010000
END:STANDARD
BEGIN:DAYLIGHT
TZOFFSETFROM:+0200
TZOFFSETTO:+0300
TZNAME:EEST
DTSTART:20200329T010000
END:DAYLIGHT
BEGIN:STANDARD
TZOFFSETFROM:+0300
TZOFFSETTO:+0200
TZNAME:EET
DTSTART:20201025T010000
END:STANDARD
END:VTIMEZONE
BEGIN:VEVENT
DTSTART;TZID=Europe/Athens:20190807T190000
DTEND;TZID=Europe/Athens:20190807T200000
DTSTAMP:20260424T214823
CREATED:20190810T160838Z
LAST-MODIFIED:20190810T160838Z
UID:3457-1565204400-1565208000@yellowyourspirit.com
SUMMARY:Vinyasa Flow on the Acropolis Roof Deck
DESCRIPTION:Every Wednesday from 19:00-20:00 \nVinyasa Yoga – All Levels are SO WELCOME!! \nDonation Based – pay what you can afford  \nClasses taught in English but I speak Greek too! \nIt’s gonna be beautiful and I will see you there  \n  \nHosted by Lynn Roulo on her beautiful roof deck and you can sign up online here: \nhttps://www.facebook.com/events/439326253519659/
URL:https://yellowyourspirit.com/event/vinyasa-flow-on-the-acropolis-roof-deck/
ORGANIZER;CN="Elli":MAILTO:elli@yellowyourspirit.com
END:VEVENT
BEGIN:VEVENT
DTSTART;TZID=Europe/Athens:20190814T190000
DTEND;TZID=Europe/Athens:20190814T200000
DTSTAMP:20260424T214823
CREATED:20190810T160955Z
LAST-MODIFIED:20190810T160955Z
UID:3460-1565809200-1565812800@yellowyourspirit.com
SUMMARY:Vinyasa Flow on the Acropolis Roof Deck
DESCRIPTION:Every Wednesday from 19:00-20:00 \nVinyasa Yoga – All Levels are SO WELCOME!! \nDonation Based – pay what you can afford  \nClasses taught in English but I speak Greek too! \nIt’s gonna be beautiful and I will see you there  \n  \nHosted by Lynn Roulo on her beautiful roof deck and you can sign up online here: \nhttps://www.facebook.com/events/439326253519659/
URL:https://yellowyourspirit.com/event/vinyasa-flow-on-the-acropolis-roof-deck-2/
LOCATION:Acropolis Rooftop Deck\, Koukaki\, Athens\, Greece
ORGANIZER;CN="Elli":MAILTO:elli@yellowyourspirit.com
END:VEVENT
BEGIN:VEVENT
DTSTART;TZID=Europe/Athens:20190821T190000
DTEND;TZID=Europe/Athens:20190821T200000
DTSTAMP:20260424T214823
CREATED:20190810T161116Z
LAST-MODIFIED:20190810T161116Z
UID:3462-1566414000-1566417600@yellowyourspirit.com
SUMMARY:Vinyasa Flow on the Acropolis Roof Deck
DESCRIPTION:Every Wednesday from 19:00-20:00 \nVinyasa Yoga – All Levels are SO WELCOME!! \nDonation Based – pay what you can afford  \nClasses taught in English but I speak Greek too! \nIt’s gonna be beautiful and I will see you there  \n  \nHosted by Lynn Roulo on her beautiful roof deck and you can sign up online here: \nhttps://www.facebook.com/events/439326253519659/
URL:https://yellowyourspirit.com/event/vinyasa-flow-on-the-acropolis-roof-deck-3/
LOCATION:Acropolis Rooftop Deck\, Koukaki\, Athens\, Greece
ORGANIZER;CN="Elli":MAILTO:elli@yellowyourspirit.com
END:VEVENT
BEGIN:VEVENT
DTSTART;TZID=Europe/Athens:20190828T190000
DTEND;TZID=Europe/Athens:20190828T200000
DTSTAMP:20260424T214823
CREATED:20190810T161234Z
LAST-MODIFIED:20190810T161234Z
UID:3464-1567018800-1567022400@yellowyourspirit.com
SUMMARY:Vinyasa Flow on the Acropolis Roof Deck
DESCRIPTION:Every Wednesday from 19:00-20:00 \nVinyasa Yoga – All Levels are SO WELCOME!! \nDonation Based – pay what you can afford  \nClasses taught in English but I speak Greek too! \nIt’s gonna be beautiful and I will see you there  \n  \nHosted by Lynn Roulo on her beautiful roof deck and you can sign up online here: \nhttps://www.facebook.com/events/439326253519659/
URL:https://yellowyourspirit.com/event/vinyasa-flow-on-the-acropolis-roof-deck-4/
LOCATION:Acropolis Rooftop Deck\, Koukaki\, Athens\, Greece
ORGANIZER;CN="Elli":MAILTO:elli@yellowyourspirit.com
END:VEVENT
END:VCALENDAR