BEGIN:VCALENDAR
VERSION:2.0
PRODID:-//Yellow Your Spirit - ECPv6.15.20//NONSGML v1.0//EN
CALSCALE:GREGORIAN
METHOD:PUBLISH
X-WR-CALNAME:Yellow Your Spirit
X-ORIGINAL-URL:https://yellowyourspirit.com
X-WR-CALDESC:Events for Yellow Your Spirit
REFRESH-INTERVAL;VALUE=DURATION:PT1H
X-Robots-Tag:noindex
X-PUBLISHED-TTL:PT1H
BEGIN:VTIMEZONE
TZID:Europe/Athens
BEGIN:DAYLIGHT
TZOFFSETFROM:+0200
TZOFFSETTO:+0300
TZNAME:EEST
DTSTART:20190331T010000
END:DAYLIGHT
BEGIN:STANDARD
TZOFFSETFROM:+0300
TZOFFSETTO:+0200
TZNAME:EET
DTSTART:20191027T010000
END:STANDARD
BEGIN:DAYLIGHT
TZOFFSETFROM:+0200
TZOFFSETTO:+0300
TZNAME:EEST
DTSTART:20200329T010000
END:DAYLIGHT
BEGIN:STANDARD
TZOFFSETFROM:+0300
TZOFFSETTO:+0200
TZNAME:EET
DTSTART:20201025T010000
END:STANDARD
BEGIN:DAYLIGHT
TZOFFSETFROM:+0200
TZOFFSETTO:+0300
TZNAME:EEST
DTSTART:20210328T010000
END:DAYLIGHT
BEGIN:STANDARD
TZOFFSETFROM:+0300
TZOFFSETTO:+0200
TZNAME:EET
DTSTART:20211031T010000
END:STANDARD
END:VTIMEZONE
BEGIN:VEVENT
DTSTART;TZID=Europe/Athens:20200113T090000
DTEND;TZID=Europe/Athens:20200113T100000
DTSTAMP:20260425T050016
CREATED:20191231T073003Z
LAST-MODIFIED:20191231T073022Z
UID:3600-1578906000-1578909600@yellowyourspirit.com
SUMMARY:Morning Vinyasa Flow at Infinity Fitness
DESCRIPTION:Monday @ 9-10 \nAll levels Vinyasa Flow \nInfinity Fitness is located next to the metro stop: ETHNIKI AMINA \nCome and Join!!  \n 
URL:https://yellowyourspirit.com/event/vinyasa-flow-at-infinity-fitness/
LOCATION:infinity fitness\, Μεσογείων 237\, Ψυχικό.\, Greece
ORGANIZER;CN="Elli":MAILTO:elli@yellowyourspirit.com
END:VEVENT
BEGIN:VEVENT
DTSTART;TZID=Europe/Athens:20200115T190000
DTEND;TZID=Europe/Athens:20200115T200000
DTSTAMP:20260425T050016
CREATED:20191231T073523Z
LAST-MODIFIED:20191231T073523Z
UID:3610-1579114800-1579118400@yellowyourspirit.com
SUMMARY:Evening Vinyasa Flow
DESCRIPTION:
URL:https://yellowyourspirit.com/event/evening-vinyasa-flow/
LOCATION:infinity fitness\, Μεσογείων 237\, Ψυχικό.\, Greece
END:VEVENT
BEGIN:VEVENT
DTSTART;TZID=Europe/Athens:20200120T090000
DTEND;TZID=Europe/Athens:20200120T170000
DTSTAMP:20260425T050016
CREATED:20191231T073144Z
LAST-MODIFIED:20191231T073227Z
UID:3606-1579510800-1579539600@yellowyourspirit.com
SUMMARY:Morning Vinyasa Flow
DESCRIPTION:Monday @ 9-10 \nAll levels Vinyasa Flow \nInfinity Fitness is located next to the metro stop: ETHNIKI AMINA \nCome and Join!!
URL:https://yellowyourspirit.com/event/morning-vinyasa-flow/
LOCATION:infinity fitness\, Μεσογείων 237\, Ψυχικό.\, Greece
ORGANIZER;CN="Elli":MAILTO:elli@yellowyourspirit.com
END:VEVENT
BEGIN:VEVENT
DTSTART;TZID=Europe/Athens:20200122T190000
DTEND;TZID=Europe/Athens:20200122T200000
DTSTAMP:20260425T050016
CREATED:20191231T073625Z
LAST-MODIFIED:20191231T073625Z
UID:3612-1579719600-1579723200@yellowyourspirit.com
SUMMARY:Evening Vinyasa Flow
DESCRIPTION:Wednesdays @ 19-20:00 \nAll levels Vinyasa Flow \nInfinity Fitness is located next to the metro stop: ETHNIKI AMINA \nCome and Join!!
URL:https://yellowyourspirit.com/event/evening-vinyasa-flow-2/
LOCATION:infinity fitness\, Μεσογείων 237\, Ψυχικό.\, Greece
ORGANIZER;CN="Elli":MAILTO:elli@yellowyourspirit.com
END:VEVENT
BEGIN:VEVENT
DTSTART;TZID=Europe/Athens:20200127T090000
DTEND;TZID=Europe/Athens:20200127T100000
DTSTAMP:20260425T050016
CREATED:20191231T073331Z
LAST-MODIFIED:20191231T073331Z
UID:3608-1580115600-1580119200@yellowyourspirit.com
SUMMARY:Morning Vinyasa Flow
DESCRIPTION:Monday @ 9-10 \nAll levels Vinyasa Flow \nInfinity Fitness is located next to the metro stop: ETHNIKI AMINA \nCome and Join!!
URL:https://yellowyourspirit.com/event/morning-vinyasa-flow-2/
LOCATION:infinity fitness\, Μεσογείων 237\, Ψυχικό.\, Greece
ORGANIZER;CN="Elli":MAILTO:elli@yellowyourspirit.com
END:VEVENT
BEGIN:VEVENT
DTSTART;TZID=Europe/Athens:20200129T190000
DTEND;TZID=Europe/Athens:20200129T200000
DTSTAMP:20260425T050016
CREATED:20191231T073727Z
LAST-MODIFIED:20191231T073727Z
UID:3614-1580324400-1580328000@yellowyourspirit.com
SUMMARY:Evening Vinyasa Flow
DESCRIPTION:Wednesdays @ 19-20:00 \nAll levels Vinyasa Flow \nInfinity Fitness is located next to the metro stop: ETHNIKI AMINA \nCome and Join!!
URL:https://yellowyourspirit.com/event/evening-vinyasa-flow-3/
LOCATION:infinity fitness\, Μεσογείων 237\, Ψυχικό.\, Greece
ORGANIZER;CN="Elli":MAILTO:elli@yellowyourspirit.com
END:VEVENT
END:VCALENDAR