BEGIN:VCALENDAR
VERSION:2.0
PRODID:-//Yellow Your Spirit - ECPv6.15.20//NONSGML v1.0//EN
CALSCALE:GREGORIAN
METHOD:PUBLISH
X-ORIGINAL-URL:https://yellowyourspirit.com
X-WR-CALDESC:Events for Yellow Your Spirit
REFRESH-INTERVAL;VALUE=DURATION:PT1H
X-Robots-Tag:noindex
X-PUBLISHED-TTL:PT1H
BEGIN:VTIMEZONE
TZID:Europe/Athens
BEGIN:DAYLIGHT
TZOFFSETFROM:+0200
TZOFFSETTO:+0300
TZNAME:EEST
DTSTART:20190331T010000
END:DAYLIGHT
BEGIN:STANDARD
TZOFFSETFROM:+0300
TZOFFSETTO:+0200
TZNAME:EET
DTSTART:20191027T010000
END:STANDARD
BEGIN:DAYLIGHT
TZOFFSETFROM:+0200
TZOFFSETTO:+0300
TZNAME:EEST
DTSTART:20200329T010000
END:DAYLIGHT
BEGIN:STANDARD
TZOFFSETFROM:+0300
TZOFFSETTO:+0200
TZNAME:EET
DTSTART:20201025T010000
END:STANDARD
BEGIN:DAYLIGHT
TZOFFSETFROM:+0200
TZOFFSETTO:+0300
TZNAME:EEST
DTSTART:20210328T010000
END:DAYLIGHT
BEGIN:STANDARD
TZOFFSETFROM:+0300
TZOFFSETTO:+0200
TZNAME:EET
DTSTART:20211031T010000
END:STANDARD
END:VTIMEZONE
BEGIN:VEVENT
DTSTART;TZID=Europe/Athens:20200205T190000
DTEND;TZID=Europe/Athens:20200205T200000
DTSTAMP:20260425T064544
CREATED:20200204T104308Z
LAST-MODIFIED:20200204T104308Z
UID:3628-1580929200-1580932800@yellowyourspirit.com
SUMMARY:Vinyasa Evening All Levels
DESCRIPTION:Wednesday @ 19:00-20:00 \nAll levels Vinyasa Flow \nInfinity Fitness is located next to the metro stop: ETHNIKI AMINA \nCome and Join!! \n12€ drop-in \n60€ 8 classes \n70€ 10 classes \nSIGN UP WITH LINK BELOW
URL:https://yellowyourspirit.com/event/vinyasa-evening-all-levels/
LOCATION:infinity fitness\, Μεσογείων 237\, Ψυχικό.\, Greece
END:VEVENT
BEGIN:VEVENT
DTSTART;TZID=Europe/Athens:20200210T090000
DTEND;TZID=Europe/Athens:20200210T100000
DTSTAMP:20260425T064544
CREATED:20200204T103736Z
LAST-MODIFIED:20200204T110035Z
UID:3622-1581325200-1581328800@yellowyourspirit.com
SUMMARY:Morning Vinyasa All Levels
DESCRIPTION:Monday @ 9-10 \nAll levels Vinyasa Flow \nInfinity Fitness is located next to the metro stop: ETHNIKI AMINA \nCome and Join!! \n12€ drop-in \n60€ 8 classes \n70€ 10 classes
URL:https://yellowyourspirit.com/event/morning-vinyasa-all-levels/
LOCATION:infinity fitness\, Μεσογείων 237\, Ψυχικό.\, Greece
END:VEVENT
BEGIN:VEVENT
DTSTART;TZID=Europe/Athens:20200212T190000
DTEND;TZID=Europe/Athens:20200212T200000
DTSTAMP:20260425T064544
CREATED:20200204T104427Z
LAST-MODIFIED:20200204T104441Z
UID:3630-1581534000-1581537600@yellowyourspirit.com
SUMMARY:Vinyasa Evening All Levels
DESCRIPTION:Wednesday @ 19:00-20:00 \nAll levels Vinyasa Flow \nInfinity Fitness is located next to the metro stop: ETHNIKI AMINA \nCome and Join!! \n12€ drop-in \n60€ 8 classes \n70€ 10 classes \nSIGN UP WITH LINK BELOW
URL:https://yellowyourspirit.com/event/vinyasa-evening-all-level/
END:VEVENT
BEGIN:VEVENT
DTSTART;TZID=Europe/Athens:20200217T090000
DTEND;TZID=Europe/Athens:20200217T100000
DTSTAMP:20260425T064544
CREATED:20200203T103900Z
LAST-MODIFIED:20200204T110250Z
UID:3624-1581930000-1581933600@yellowyourspirit.com
SUMMARY:Morning Vinyasa All Levels
DESCRIPTION:Monday @ 9-10 \nAll levels Vinyasa Flow \nInfinity Fitness is located next to the metro stop: ETHNIKI AMINA \nCome and Join!! \n12€ drop-in \n60€ 8 classes \n70€ 10 classes \nSIGN UP IN LINK BELOW!
URL:https://yellowyourspirit.com/event/morning-vinyasa-all-levels-2/
LOCATION:infinity fitness\, Μεσογείων 237\, Ψυχικό.\, Greece
END:VEVENT
BEGIN:VEVENT
DTSTART;TZID=Europe/Athens:20200219T190000
DTEND;TZID=Europe/Athens:20200219T200000
DTSTAMP:20260425T064544
CREATED:20200204T105629Z
LAST-MODIFIED:20200204T105629Z
UID:3635-1582138800-1582142400@yellowyourspirit.com
SUMMARY:Vinyasa Evening All Levels
DESCRIPTION:Wednesday @ 19:00-20:00 \nAll levels Vinyasa Flow \nInfinity Fitness is located next to the metro stop: ETHNIKI AMINA \nCome and Join!! \n12€ drop-in \n60€ 8 classes \n70€ 10 classes \nSIGN UP WITH LINK BELOW
URL:https://yellowyourspirit.com/event/vinyasa-evening-all-levels-3/
LOCATION:infinity fitness\, Μεσογείων 237\, Ψυχικό.\, Greece
END:VEVENT
BEGIN:VEVENT
DTSTART;TZID=Europe/Athens:20200224T090000
DTEND;TZID=Europe/Athens:20200224T100000
DTSTAMP:20260425T064544
CREATED:20200204T104040Z
LAST-MODIFIED:20200204T105759Z
UID:3626-1582534800-1582538400@yellowyourspirit.com
SUMMARY:Morning Vinyasa All Levels
DESCRIPTION:Monday @ 9-10 \nAll levels Vinyasa Flow \nInfinity Fitness is located next to the metro stop: ETHNIKI AMINA \nCome and Join!! \n12€ drop-in \n60€ 8 classes \n70€ 10 classes \nSIGN UP IN LINK BELOW!
URL:https://yellowyourspirit.com/event/morning-vinyasa-all-levels-3/
LOCATION:infinity fitness\, Μεσογείων 237\, Ψυχικό.\, Greece
END:VEVENT
BEGIN:VEVENT
DTSTART;TZID=Europe/Athens:20200226T190000
DTEND;TZID=Europe/Athens:20200226T200000
DTSTAMP:20260425T064544
CREATED:20200204T105443Z
LAST-MODIFIED:20200204T105443Z
UID:3633-1582743600-1582747200@yellowyourspirit.com
SUMMARY:Vinyasa Evening All Levels
DESCRIPTION:Wednesday @ 19:00-20:00 \nAll levels Vinyasa Flow \nInfinity Fitness is located next to the metro stop: ETHNIKI AMINA \nCome and Join!! \n12€ drop-in \n60€ 8 classes \n70€ 10 classes \nSIGN UP WITH LINK BELOW
URL:https://yellowyourspirit.com/event/vinyasa-evening-all-levels-2/
LOCATION:infinity fitness\, Μεσογείων 237\, Ψυχικό.\, Greece
END:VEVENT
END:VCALENDAR