BEGIN:VCALENDAR
VERSION:2.0
PRODID:-//Yellow Your Spirit - ECPv6.15.20//NONSGML v1.0//EN
CALSCALE:GREGORIAN
METHOD:PUBLISH
X-WR-CALNAME:Yellow Your Spirit
X-ORIGINAL-URL:https://yellowyourspirit.com
X-WR-CALDESC:Events for Yellow Your Spirit
REFRESH-INTERVAL;VALUE=DURATION:PT1H
X-Robots-Tag:noindex
X-PUBLISHED-TTL:PT1H
BEGIN:VTIMEZONE
TZID:Europe/Athens
BEGIN:DAYLIGHT
TZOFFSETFROM:+0200
TZOFFSETTO:+0300
TZNAME:EEST
DTSTART:20190331T010000
END:DAYLIGHT
BEGIN:STANDARD
TZOFFSETFROM:+0300
TZOFFSETTO:+0200
TZNAME:EET
DTSTART:20191027T010000
END:STANDARD
BEGIN:DAYLIGHT
TZOFFSETFROM:+0200
TZOFFSETTO:+0300
TZNAME:EEST
DTSTART:20200329T010000
END:DAYLIGHT
BEGIN:STANDARD
TZOFFSETFROM:+0300
TZOFFSETTO:+0200
TZNAME:EET
DTSTART:20201025T010000
END:STANDARD
BEGIN:DAYLIGHT
TZOFFSETFROM:+0200
TZOFFSETTO:+0300
TZNAME:EEST
DTSTART:20210328T010000
END:DAYLIGHT
BEGIN:STANDARD
TZOFFSETFROM:+0300
TZOFFSETTO:+0200
TZNAME:EET
DTSTART:20211031T010000
END:STANDARD
END:VTIMEZONE
BEGIN:VEVENT
DTSTART;TZID=Europe/Athens:20200706T100000
DTEND;TZID=Europe/Athens:20200706T110000
DTSTAMP:20260425T153228
CREATED:20200706T105755Z
LAST-MODIFIED:20200706T105755Z
UID:3842-1594029600-1594033200@yellowyourspirit.com
SUMMARY:Vinyasa Yoga
DESCRIPTION:Vinyasa Yoga Flow \nFlow one breath to one movement in a meditative and creative practice. \nWe will strengthen\, stretch\, and breathe together with tons of guidance from me. 🙂 \nYou will definitely feel warm so bring some water and a little towel! \nAll levels are welcome. If you are a beginner\, please send me a message! \n12 Euro for a drop-in or great monthly packages! \nYou don’t need to be a member of the gym 🙂
URL:https://yellowyourspirit.com/event/vinyasa-yoga/
LOCATION:infinity fitness\, Μεσογείων 237\, Ψυχικό.\, Greece
ORGANIZER;CN="Elli":MAILTO:elli@yellowyourspirit.com
END:VEVENT
BEGIN:VEVENT
DTSTART;TZID=Europe/Athens:20200709T193000
DTEND;TZID=Europe/Athens:20200709T203000
DTSTAMP:20260425T153228
CREATED:20200706T110039Z
LAST-MODIFIED:20200706T110905Z
UID:3848-1594323000-1594326600@yellowyourspirit.com
SUMMARY:Evening Vinyasa Yoga
DESCRIPTION:Vinyasa Yoga Flow \nFlow one breath to one movement in a meditative and creative practice. \nWe will strengthen\, stretch\, and breathe together with tons of guidance from me. 🙂 \nYou will definitely feel warm so bring some water and a little towel! \nAll levels are welcome. If you are a beginner\, please send me a message! \n12 Euro for a drop-in or great monthly packages! \nYou don’t need to be a member of the gym 🙂
URL:https://yellowyourspirit.com/event/vinyasa-yoga-4/
LOCATION:infinity fitness\, Μεσογείων 237\, Ψυχικό.\, Greece
ORGANIZER;CN="Elli":MAILTO:elli@yellowyourspirit.com
END:VEVENT
BEGIN:VEVENT
DTSTART;TZID=Europe/Athens:20200710T193000
DTEND;TZID=Europe/Athens:20200710T203000
DTSTAMP:20260425T153228
CREATED:20200706T111420Z
LAST-MODIFIED:20200706T111420Z
UID:3867-1594409400-1594413000@yellowyourspirit.com
SUMMARY:Evening Power Vinyasa
DESCRIPTION:Power Vinyasa Yoga Flow \nFlow one breath to one movement in a meditative and creative practice… \nAt the same time\, it will be more POWERFUL than regular Vinyasa Flow. \nWe will move faster and we will work to strengthen our core\, legs\, arms\, back\, and shoulders even more so than the other classes! (think more planks\, side planks\, lunges\, etc ) \nYou will sweat but it will be soooooo fun!! \n  \nAll levels are welcome. If you are a beginner\, please send me a message! \n12 Euro for a drop-in or great monthly packages! \nYou don’t need to be a member of the gym 🙂
URL:https://yellowyourspirit.com/event/evening-power-vinyasa/
LOCATION:infinity fitness\, Μεσογείων 237\, Ψυχικό.\, Greece
ORGANIZER;CN="Elli":MAILTO:elli@yellowyourspirit.com
END:VEVENT
BEGIN:VEVENT
DTSTART;TZID=Europe/Athens:20200711T100000
DTEND;TZID=Europe/Athens:20200711T110000
DTSTAMP:20260425T153228
CREATED:20200706T110536Z
LAST-MODIFIED:20200706T110536Z
UID:3856-1594461600-1594465200@yellowyourspirit.com
SUMMARY:Vinyasa Yoga
DESCRIPTION:Vinyasa Yoga Flow \nFlow one breath to one movement in a meditative and creative practice. \nWe will strengthen\, stretch\, and breathe together with tons of guidance from me. 🙂 \nYou will definitely feel warm so bring some water and a little towel! \nAll levels are welcome. If you are a beginner\, please send me a message! \n12 Euro for a drop-in or great monthly packages! \nYou don’t need to be a member of the gym 🙂
URL:https://yellowyourspirit.com/event/vinyasa-yoga-7/
LOCATION:infinity fitness\, Μεσογείων 237\, Ψυχικό.\, Greece
ORGANIZER;CN="Elli":MAILTO:elli@yellowyourspirit.com
END:VEVENT
BEGIN:VEVENT
DTSTART;TZID=Europe/Athens:20200713T100000
DTEND;TZID=Europe/Athens:20200713T110000
DTSTAMP:20260425T153228
CREATED:20200706T105852Z
LAST-MODIFIED:20200706T105852Z
UID:3844-1594634400-1594638000@yellowyourspirit.com
SUMMARY:Vinyasa Yoga
DESCRIPTION:Vinyasa Yoga Flow \nFlow one breath to one movement in a meditative and creative practice. \nWe will strengthen\, stretch\, and breathe together with tons of guidance from me. 🙂 \nYou will definitely feel warm so bring some water and a little towel! \nAll levels are welcome. If you are a beginner\, please send me a message! \n12 Euro for a drop-in or great monthly packages! \nYou don’t need to be a member of the gym 🙂
URL:https://yellowyourspirit.com/event/vinyasa-yoga-2/
LOCATION:infinity fitness\, Μεσογείων 237\, Ψυχικό.\, Greece
ORGANIZER;CN="Elli":MAILTO:elli@yellowyourspirit.com
END:VEVENT
BEGIN:VEVENT
DTSTART;TZID=Europe/Athens:20200716T193000
DTEND;TZID=Europe/Athens:20200716T203000
DTSTAMP:20260425T153228
CREATED:20200706T110123Z
LAST-MODIFIED:20200706T110930Z
UID:3850-1594927800-1594931400@yellowyourspirit.com
SUMMARY:Evening Vinyasa Yoga
DESCRIPTION:Vinyasa Yoga Flow \nFlow one breath to one movement in a meditative and creative practice. \nWe will strengthen\, stretch\, and breathe together with tons of guidance from me. 🙂 \nYou will definitely feel warm so bring some water and a little towel! \nAll levels are welcome. If you are a beginner\, please send me a message! \n12 Euro for a drop-in or great monthly packages! \nYou don’t need to be a member of the gym 🙂
URL:https://yellowyourspirit.com/event/vinyasa-yoga-5/
LOCATION:infinity fitness\, Μεσογείων 237\, Ψυχικό.\, Greece
ORGANIZER;CN="Elli":MAILTO:elli@yellowyourspirit.com
END:VEVENT
BEGIN:VEVENT
DTSTART;TZID=Europe/Athens:20200717T193000
DTEND;TZID=Europe/Athens:20200717T203000
DTSTAMP:20260425T153228
CREATED:20200706T111536Z
LAST-MODIFIED:20200706T111536Z
UID:3869-1595014200-1595017800@yellowyourspirit.com
SUMMARY:Evening Power Vinyasa
DESCRIPTION:Power Vinyasa Yoga Flow \nFlow one breath to one movement in a meditative and creative practice… \nAt the same time\, it will be more POWERFUL than regular Vinyasa Flow. \nWe will move faster and we will work to strengthen our core\, legs\, arms\, back\, and shoulders even more so than the other classes! (think more planks\, side planks\, lunges\, etc ) \nYou will sweat but it will be soooooo fun!! \n  \nAll levels are welcome. If you are a beginner\, please send me a message! \n12 Euro for a drop-in or great monthly packages! \nYou don’t need to be a member of the gym 🙂
URL:https://yellowyourspirit.com/event/evening-power-vinyasa-2/
LOCATION:infinity fitness\, Μεσογείων 237\, Ψυχικό.\, Greece
ORGANIZER;CN="Elli":MAILTO:elli@yellowyourspirit.com
END:VEVENT
BEGIN:VEVENT
DTSTART;TZID=Europe/Athens:20200718T100000
DTEND;TZID=Europe/Athens:20200718T110000
DTSTAMP:20260425T153228
CREATED:20200706T110624Z
LAST-MODIFIED:20200706T110624Z
UID:3858-1595066400-1595070000@yellowyourspirit.com
SUMMARY:Vinyasa Yoga
DESCRIPTION:Vinyasa Yoga Flow \nFlow one breath to one movement in a meditative and creative practice. \nWe will strengthen\, stretch\, and breathe together with tons of guidance from me. 🙂 \nYou will definitely feel warm so bring some water and a little towel! \nAll levels are welcome. If you are a beginner\, please send me a message! \n12 Euro for a drop-in or great monthly packages! \nYou don’t need to be a member of the gym 🙂
URL:https://yellowyourspirit.com/event/vinyasa-yoga-8/
LOCATION:infinity fitness\, Μεσογείων 237\, Ψυχικό.\, Greece
ORGANIZER;CN="Elli":MAILTO:elli@yellowyourspirit.com
END:VEVENT
BEGIN:VEVENT
DTSTART;TZID=Europe/Athens:20200720T100000
DTEND;TZID=Europe/Athens:20200720T110000
DTSTAMP:20260425T153228
CREATED:20200706T105940Z
LAST-MODIFIED:20200706T105940Z
UID:3846-1595239200-1595242800@yellowyourspirit.com
SUMMARY:Vinyasa Yoga
DESCRIPTION:Vinyasa Yoga Flow \nFlow one breath to one movement in a meditative and creative practice. \nWe will strengthen\, stretch\, and breathe together with tons of guidance from me. 🙂 \nYou will definitely feel warm so bring some water and a little towel! \nAll levels are welcome. If you are a beginner\, please send me a message! \n12 Euro for a drop-in or great monthly packages! \nYou don’t need to be a member of the gym 🙂
URL:https://yellowyourspirit.com/event/vinyasa-yoga-3/
LOCATION:infinity fitness\, Μεσογείων 237\, Ψυχικό.\, Greece
ORGANIZER;CN="Elli":MAILTO:elli@yellowyourspirit.com
END:VEVENT
BEGIN:VEVENT
DTSTART;TZID=Europe/Athens:20200723T193000
DTEND;TZID=Europe/Athens:20200723T203000
DTSTAMP:20260425T153228
CREATED:20200706T110209Z
LAST-MODIFIED:20200706T110955Z
UID:3852-1595532600-1595536200@yellowyourspirit.com
SUMMARY:Evening Vinyasa Yoga
DESCRIPTION:Vinyasa Yoga Flow \nFlow one breath to one movement in a meditative and creative practice. \nWe will strengthen\, stretch\, and breathe together with tons of guidance from me. 🙂 \nYou will definitely feel warm so bring some water and a little towel! \nAll levels are welcome. If you are a beginner\, please send me a message! \n12 Euro for a drop-in or great monthly packages! \nYou don’t need to be a member of the gym 🙂
URL:https://yellowyourspirit.com/event/vinyasa-yoga-6/
LOCATION:infinity fitness\, Μεσογείων 237\, Ψυχικό.\, Greece
ORGANIZER;CN="Elli":MAILTO:elli@yellowyourspirit.com
END:VEVENT
BEGIN:VEVENT
DTSTART;TZID=Europe/Athens:20200724T193000
DTEND;TZID=Europe/Athens:20200724T203000
DTSTAMP:20260425T153228
CREATED:20200706T111625Z
LAST-MODIFIED:20200706T111625Z
UID:3871-1595619000-1595622600@yellowyourspirit.com
SUMMARY:Evening Power Vinyasa
DESCRIPTION:Power Vinyasa Yoga Flow \nFlow one breath to one movement in a meditative and creative practice… \nAt the same time\, it will be more POWERFUL than regular Vinyasa Flow. \nWe will move faster and we will work to strengthen our core\, legs\, arms\, back\, and shoulders even more so than the other classes! (think more planks\, side planks\, lunges\, etc ) \nYou will sweat but it will be soooooo fun!! \n  \nAll levels are welcome. If you are a beginner\, please send me a message! \n12 Euro for a drop-in or great monthly packages! \nYou don’t need to be a member of the gym 🙂
URL:https://yellowyourspirit.com/event/evening-power-vinyasa-3/
LOCATION:infinity fitness\, Μεσογείων 237\, Ψυχικό.\, Greece
ORGANIZER;CN="Elli":MAILTO:elli@yellowyourspirit.com
END:VEVENT
BEGIN:VEVENT
DTSTART;TZID=Europe/Athens:20200725T100000
DTEND;TZID=Europe/Athens:20200725T110000
DTSTAMP:20260425T153228
CREATED:20200706T110718Z
LAST-MODIFIED:20200706T110842Z
UID:3860-1595671200-1595674800@yellowyourspirit.com
SUMMARY:Vinyasa Yoga
DESCRIPTION:Vinyasa Yoga Flow \nFlow one breath to one movement in a meditative and creative practice. \nWe will strengthen\, stretch\, and breathe together with tons of guidance from me. 🙂 \nYou will definitely feel warm so bring some water and a little towel! \nAll levels are welcome. If you are a beginner\, please send me a message! \n12 Euro for a drop-in or great monthly packages! \nYou don’t need to be a member of the gym 🙂
URL:https://yellowyourspirit.com/event/vinyasa-yoga-9/
LOCATION:infinity fitness\, Μεσογείων 237\, Ψυχικό.\, Greece
ORGANIZER;CN="Elli":MAILTO:elli@yellowyourspirit.com
END:VEVENT
END:VCALENDAR